BEGIN:VCALENDAR
VERSION:2.0
PRODID:-//Speed Art Museum - ECPv6.15.20//NONSGML v1.0//EN
CALSCALE:GREGORIAN
METHOD:PUBLISH
X-WR-CALNAME:Speed Art Museum
X-ORIGINAL-URL:https://www.speedmuseum.org
X-WR-CALDESC:Events for Speed Art Museum
REFRESH-INTERVAL;VALUE=DURATION:PT1H
X-Robots-Tag:noindex
X-PUBLISHED-TTL:PT1H
BEGIN:VTIMEZONE
TZID:America/Kentucky/Louisville
BEGIN:DAYLIGHT
TZOFFSETFROM:-0500
TZOFFSETTO:-0400
TZNAME:EDT
DTSTART:20250309T070000
END:DAYLIGHT
BEGIN:STANDARD
TZOFFSETFROM:-0400
TZOFFSETTO:-0500
TZNAME:EST
DTSTART:20251102T060000
END:STANDARD
BEGIN:DAYLIGHT
TZOFFSETFROM:-0500
TZOFFSETTO:-0400
TZNAME:EDT
DTSTART:20260308T070000
END:DAYLIGHT
BEGIN:STANDARD
TZOFFSETFROM:-0400
TZOFFSETTO:-0500
TZNAME:EST
DTSTART:20261101T060000
END:STANDARD
BEGIN:DAYLIGHT
TZOFFSETFROM:-0500
TZOFFSETTO:-0400
TZNAME:EDT
DTSTART:20270314T070000
END:DAYLIGHT
BEGIN:STANDARD
TZOFFSETFROM:-0400
TZOFFSETTO:-0500
TZNAME:EST
DTSTART:20271107T060000
END:STANDARD
END:VTIMEZONE
BEGIN:VEVENT
DTSTART;VALUE=DATE:20260501
DTEND;VALUE=DATE:20260502
DTSTAMP:20260424T071935
CREATED:20260326T194612Z
LAST-MODIFIED:20260326T194612Z
UID:10002527-1777593600-1777679999@www.speedmuseum.org
SUMMARY:Museum Closed
DESCRIPTION:The Speed will be closed to the public today for the celebration of the Kentucky Oaks race. We will be back open with regular hours\, May 3. \nPLAN YOUR VISIT
URL:https://www.speedmuseum.org/event/museum-closed-2/
ATTACH;FMTTYPE=image/jpeg:https://www.speedmuseum.org/wp-content/uploads/building-speed-image-e1597348327530-1-e1769032277295.jpg
END:VEVENT
BEGIN:VEVENT
DTSTART;VALUE=DATE:20260502
DTEND;VALUE=DATE:20260503
DTSTAMP:20260424T071935
CREATED:20260326T194629Z
LAST-MODIFIED:20260326T194629Z
UID:10002528-1777680000-1777766399@www.speedmuseum.org
SUMMARY:Museum Closed
DESCRIPTION:The Speed will be closed to the public today for the celebration of the Kentucky Derby race. We will be back open with regular hours\, May 3. \nPLAN YOUR VISIT
URL:https://www.speedmuseum.org/event/museum-closed-3/
ATTACH;FMTTYPE=image/jpeg:https://www.speedmuseum.org/wp-content/uploads/building-speed-image-e1597348327530-1-e1769032277295.jpg
END:VEVENT
BEGIN:VEVENT
DTSTART;TZID=America/Kentucky/Louisville:20260503T130000
DTEND;TZID=America/Kentucky/Louisville:20260503T140000
DTSTAMP:20260424T071935
CREATED:20260325T194946Z
LAST-MODIFIED:20260325T194946Z
UID:10002516-1777813200-1777816800@www.speedmuseum.org
SUMMARY:Collection Highlights Drop-In Tour
DESCRIPTION:Explore the Speed and engage in conversations during this one-hour Docent-guided tour focused on the highlights of our collection. Free with admission. \nFor more information\, visit our tours page.
URL:https://www.speedmuseum.org/event/collection-highlights-drop-in-tour-3/2026-05-03/
CATEGORIES:Tours
ATTACH;FMTTYPE=image/jpeg:https://www.speedmuseum.org/wp-content/uploads/20260312_144040381_iOS-scaled-e1774467993395.jpg
END:VEVENT
BEGIN:VEVENT
DTSTART;TZID=America/Kentucky/Louisville:20260503T130000
DTEND;TZID=America/Kentucky/Louisville:20260503T140000
DTSTAMP:20260424T071935
CREATED:20260121T214415Z
LAST-MODIFIED:20260121T214415Z
UID:10002274-1777813200-1777816800@www.speedmuseum.org
SUMMARY:Speed Chat Spot
DESCRIPTION:Check out Speed Chat Spots. During this time frame a friendly docent will be available to chat about our collection\, for specific Chat Spot locations check in with Guest Services in the Front Lobby upon arrival.
URL:https://www.speedmuseum.org/event/speed-chat-spot-5/2026-05-03/
CATEGORIES:Tours
ATTACH;FMTTYPE=image/jpeg:https://www.speedmuseum.org/wp-content/uploads/20250321_213138981_iOS-scaled-e1769031302890.jpg
END:VEVENT
BEGIN:VEVENT
DTSTART;TZID=America/Kentucky/Louisville:20260503T130000
DTEND;TZID=America/Kentucky/Louisville:20260503T143000
DTSTAMP:20260424T071935
CREATED:20260325T202829Z
LAST-MODIFIED:20260420T164101Z
UID:10002525-1777813200-1777818600@www.speedmuseum.org
SUMMARY:WTO/99 at Speed Cinema
DESCRIPTION:WTO/99\nDirected by Ian Bell \nSunday\, May 3\, 1 pm\, CINEMA+ | BUY TICKETS\nWith a post-screening community conversation moderated by Angela D. Storey\, Director of the Anne Braden Institute for Social Justice Research at the University of Louisville. \n$12 | $8 Speed members \n“Watching WTO/99 is like peering into a portal to the future.”—Alissa Wilkinson\, New York Times \nFrom November 30 to December 3 1999\, tens of thousands of people occupied the streets of downtown Seattle to make known their concerns about the existence of the World Trade Organization and its impacts on the environment\, human rights\, and labor in the largest protests against economic globalization the U.S. has ever seen. \nThe protests brought together people from divergent sections of society—anarchists\, environmentalists\, labor unions\, consumer protection advocates\, pro-democracy groups\, and even religious organizations. These protestors gathered in direct action hoping to dissuade world leadership from continued support of the WTO and strived to focus the public’s attention to the kind of future the WTO would bring forth. \nBuilding from a thousand-hour archive\, which includes more than 400 hours of never-before-seen footage\, WTO/99 reanimates the ideological conflicts that drew thousands to the streets of Seattle in hopes for a better future. The film is an immersive visual artifact of a week that brought 40\,000 people together to warn of environmental collapse\, the vanishing middle class\, and what the full inclusion of China in the World Trade Organization would mean for our collective future. The protesters—seen as a rabble-rousing nuisance at the time\, yet appearing prophetic today—were met with extreme violence by a militarized police force\, an all-too-fitting way to usher in a new century; one that is now defined by the U.S. failure to address climate change and increasing state aggression. 2025\, U.S.\, DCP\, 100 minutes. Recommended for 15+
URL:https://www.speedmuseum.org/event/wto-99-at-speed-cinema/
CATEGORIES:Cinema+,Cinema
ATTACH;FMTTYPE=image/jpeg:https://www.speedmuseum.org/wp-content/uploads/WTO-still-3.jpg
END:VEVENT
BEGIN:VEVENT
DTSTART;TZID=America/Kentucky/Louisville:20260503T150000
DTEND;TZID=America/Kentucky/Louisville:20260503T160000
DTSTAMP:20260424T071935
CREATED:20260121T214510Z
LAST-MODIFIED:20260121T214510Z
UID:10002292-1777820400-1777824000@www.speedmuseum.org
SUMMARY:Speed Chat Spot
DESCRIPTION:Check out Speed Chat Spots. During this time frame a friendly docent will be available to chat about our collection\, for specific Chat Spot locations check in with Guest Services in the Front Lobby upon arrival.
URL:https://www.speedmuseum.org/event/speed-chat-spot-6/2026-05-03/
CATEGORIES:Tours
ATTACH;FMTTYPE=image/jpeg:https://www.speedmuseum.org/wp-content/uploads/20250321_213138981_iOS-scaled-e1769031302890.jpg
END:VEVENT
BEGIN:VEVENT
DTSTART;TZID=America/Kentucky/Louisville:20260503T153000
DTEND;TZID=America/Kentucky/Louisville:20260503T170000
DTSTAMP:20260424T071935
CREATED:20260325T203935Z
LAST-MODIFIED:20260325T203935Z
UID:10002526-1777822200-1777827600@www.speedmuseum.org
SUMMARY:Hello Dankness at Speed Cinema
DESCRIPTION:Hello Dankness\nDirected by Soda Jerk \nSunday\, May 3\, 3:30 pm | BUY TICKETS \n$12 | $8 Speed members \n“Hello Dankness belongs to a venerable underground-film tradition of treating refracted entertainment as a mirror for society.”—Ben Kenigsberg\, New York Times \nHello Dankness is a political fable that bears witness to the psychotropic spectacle of American politics from 2016 to 2021\, and the mythologies and lore that took root around it. Taking form as a suburban stoner musical\, the film follows a neighborhood through these years as consensus reality disintegrates into conspiracy and other contagions. What unfolds is a rogue retelling of history in which hotdogs debate the culture wars\, trashcans preach QAnon\, zombies rally for revolution\, and real events are refashioned as Broadway bangers from Cats\, Les Miserables\, Annie\, and The Phantom of the Opera. \nThere are songs and dancing\, moments of menace and melancholy\, shitposting and deep sincerity. Created with Soda Jerk’s signature methodology\, Hello Dankness is entirely composed of sampled media. Utilizing extensive rotoscoping and digital VFX\, the feature length narrative has been grafted together from almost one thousand film\, television and audio sources. \nBegun in 2016 and labored on throughout the Covid-19 pandemic\, Hello Dankness is a record of the time\, written from the time. The Hollywood Reporter announced Hello Dankness as ”the most original and bizarrely elevating movie of the 2023 Berlin International Film Festival.” \nThe cast of characters include Tom Hanks\, Annette Bening\, Bruce Dern\, Ice Cube\, Wayne and Garth\, Maya and Ana\, Rue and Jules\, Seth Rogen and Reyn Doi. American politicians play themselves\, with Jesse Eisenberg in the role of Mark Zuckerberg\, and The Phantom of the Opera as Vladimir Putin. 2022\, Australia\, DCP\, 70 minutes. Recommended for 16+.
URL:https://www.speedmuseum.org/event/hello-dankness-at-speed-cinema/
CATEGORIES:Cinema
ATTACH;FMTTYPE=image/jpeg:https://www.speedmuseum.org/wp-content/uploads/HelloDankness_02_1920x1080_RGB_web.jpg
END:VEVENT
END:VCALENDAR