BEGIN:VCALENDAR
VERSION:2.0
PRODID:-//Speed Art Museum - ECPv6.15.20//NONSGML v1.0//EN
CALSCALE:GREGORIAN
METHOD:PUBLISH
X-WR-CALNAME:Speed Art Museum
X-ORIGINAL-URL:https://www.speedmuseum.org
X-WR-CALDESC:Events for Speed Art Museum
REFRESH-INTERVAL;VALUE=DURATION:PT1H
X-Robots-Tag:noindex
X-PUBLISHED-TTL:PT1H
BEGIN:VTIMEZONE
TZID:America/Kentucky/Louisville
BEGIN:DAYLIGHT
TZOFFSETFROM:-0500
TZOFFSETTO:-0400
TZNAME:EDT
DTSTART:20250309T070000
END:DAYLIGHT
BEGIN:STANDARD
TZOFFSETFROM:-0400
TZOFFSETTO:-0500
TZNAME:EST
DTSTART:20251102T060000
END:STANDARD
BEGIN:DAYLIGHT
TZOFFSETFROM:-0500
TZOFFSETTO:-0400
TZNAME:EDT
DTSTART:20260308T070000
END:DAYLIGHT
BEGIN:STANDARD
TZOFFSETFROM:-0400
TZOFFSETTO:-0500
TZNAME:EST
DTSTART:20261101T060000
END:STANDARD
BEGIN:DAYLIGHT
TZOFFSETFROM:-0500
TZOFFSETTO:-0400
TZNAME:EDT
DTSTART:20270314T070000
END:DAYLIGHT
BEGIN:STANDARD
TZOFFSETFROM:-0400
TZOFFSETTO:-0500
TZNAME:EST
DTSTART:20271107T060000
END:STANDARD
END:VTIMEZONE
BEGIN:VEVENT
DTSTART;TZID=America/Kentucky/Louisville:20260415T180000
DTEND;TZID=America/Kentucky/Louisville:20260415T183000
DTSTAMP:20260424T071945
CREATED:20260323T202505Z
LAST-MODIFIED:20260323T202505Z
UID:10002386-1776276000-1776277800@www.speedmuseum.org
SUMMARY:She Dared to Dream: Ayanna Pressley at Speed Cinema
DESCRIPTION:Deeper Viewing\nShe Dared to Dream: Ayanna Pressley \nDirected by Abby Ginzberg \nWednesday\, April 15\, 6 pm CINEMA + | BUY TICKETS \n$8 | $6 Speed members | Free for UofL students\, faculty\, and staff \nAyanna Pressley is not only a Congresswoman\, but also an advocate\, a policymaker\, an activist\, and a survivor. In 2018\, Ayanna was elected to represent Massachusetts’ 7th Congressional District in the U.S. House of Representatives\, making her the first woman of color to be elected to Congress from the Commonwealth of Massachusetts. Ayanna believes that ‘the people closest to the pain should be closest to the power’ and that a diversity of voices in the political process is essential to crafting more effective public policy.  Ayanna was also the first woman of color elected to the Boston City Council in 2009. \nIn Congress\, Ayanna has been dedicated to bold\, activist leadership introducing legislation to ensure fair compensation for low-wage workers\, supporting survivors of sexual assault and harassment\, and to fundamentally reimagining our criminal legal system. She has been a vocal advocate on behalf of immigrant communities\, fighting for and securing the release of Ruymesa Ozturk from ICE detention\, fighting to protect critical reproductive rights and has been an outspoken opponent of Project 2025 from its inception. \nAs She Dared to Dream reveals\, Ayanna Pressley has demonstrated courage in living authentically speaking openly about alopecia and rejecting imposed beauty standards—making her story resonate far beyond politics. It is about representation\, visibility\, and the power of authenticity. 2025\, U.S.\, DCP\, 28 minutes. Recommended for 12+. \nCo-presented with the PanAfrican Studies Department\, UofL. \n \nCINEMA + with a post-screening discussion.
URL:https://www.speedmuseum.org/event/she-dared-to-dream-ayanna-pressley-at-speed-cinema/
CATEGORIES:Cinema+,Cinema
ATTACH;FMTTYPE=image/jpeg:https://www.speedmuseum.org/wp-content/uploads/GettyImages-1306715908-scaled.jpg
END:VEVENT
BEGIN:VEVENT
DTSTART;TZID=America/Kentucky/Louisville:20260416T180000
DTEND;TZID=America/Kentucky/Louisville:20260416T193000
DTSTAMP:20260424T071945
CREATED:20260323T205816Z
LAST-MODIFIED:20260325T200846Z
UID:10002387-1776362400-1776367800@www.speedmuseum.org
SUMMARY:My Neighbor Totoro (Japanese language version) at Speed Cinema
DESCRIPTION:Essential Cinema \nMy Neighbor Totoro\n(Japanese language version)\nDirected by Hayao Miyazaki \nThursday\, April 16\, 6 pm | BUY TICKETS \n$12 | $8 Speed members \n“This inspirationally lovely and gentle film has a real claim to be Miyazaki’s masterpiece.”—Peter Bradshaw\, The Guardian \nThis acclaimed animated tale by director Hayao Miyazaki follows schoolgirl Satsuke and her younger sister\, Mei\, as they settle into an old country house with their father and wait for their mother to recover from an illness in an area hospital. \nAs the sisters explore their new home\, they encounter and befriend playful spirits in their house and the nearby forest\, most notably the massive cuddly creature known as Totoro. 1988\, Japan\, DCP\, in Japanese with English subtitles\, 86 minutes. Rated G. \nNOTE: The English-dubbed version of My Neighbor Totoro is playing as part of Speed Family Film + Fun\, on April 11\, which includes snacks for the film and a family art-making activity after the screening. More information and tickets are available here.
URL:https://www.speedmuseum.org/event/my-neighbor-totoro-at-speed-cinema/
CATEGORIES:Cinema
ATTACH;FMTTYPE=image/jpeg:https://www.speedmuseum.org/wp-content/uploads/Totoro3.jpg
END:VEVENT
BEGIN:VEVENT
DTSTART;TZID=America/Kentucky/Louisville:20260417T130000
DTEND;TZID=America/Kentucky/Louisville:20260417T140000
DTSTAMP:20260424T071945
CREATED:20260325T194738Z
LAST-MODIFIED:20260325T194738Z
UID:10002437-1776430800-1776434400@www.speedmuseum.org
SUMMARY:Collection Highlights Drop-In Tour
DESCRIPTION:Explore the Speed and engage in conversations during this one-hour Docent-guided tour focused on the highlights of our collection. Free with admission. \nFor more information\, visit our tours page.
URL:https://www.speedmuseum.org/event/collection-highlights-drop-in-tour/2026-04-17/
CATEGORIES:Tours
ATTACH;FMTTYPE=image/jpeg:https://www.speedmuseum.org/wp-content/uploads/20260312_144040381_iOS-scaled-e1774467993395.jpg
END:VEVENT
BEGIN:VEVENT
DTSTART;TZID=America/Kentucky/Louisville:20260417T180000
DTEND;TZID=America/Kentucky/Louisville:20260417T193000
DTSTAMP:20260424T071945
CREATED:20260324T173843Z
LAST-MODIFIED:20260324T173843Z
UID:10002388-1776448800-1776454200@www.speedmuseum.org
SUMMARY:The Christophers at Speed Cinema
DESCRIPTION:The Christophers\nDirected by Steven Soderbergh \nFriday\, April 17\, 6 pm | BUY TICKETS \n$12 | $8 Speed members \n“A crackling original drama about artistic legacy in all its facets.”—Peter Debruge\, Variety \nSteven Soderbergh (Sex\, Lies\, and Videotape) directs this cheeky tale of art forgery\, ambition\, caustic critique\, and greed grounded in striking performances by Ian McKellen and Michaela Coel. \nJulian Sklar (McKellen) was once a star of London’s 1960’s and 70’s pop art explosion\, but he hasn’t painted in decades and has been broke for years. \nHis two estranged children (James Corden and Jessica Gunning)\, desperate for an inheritance\, hire Lori (Coel)\, an art restorer and former forger\, to pose as a prospective assistant in order to access eight unfinished portraits of a former lover named Christopher that Julian has buried deep in storage. Her plan is to complete them\, then return them to storage\, where they are to be “discovered” upon Julian’s death. 2025\, U.K.\, DCP\, 100 minutes. Rated R.
URL:https://www.speedmuseum.org/event/the-christophers-at-speed-cinema/
CATEGORIES:Cinema
ATTACH;FMTTYPE=image/jpeg:https://www.speedmuseum.org/wp-content/uploads/THE-CHRISTOPHERS_STILL-1_Michaela-Coel-and-Ian-McKellen_Courtesy-of-NEON.jpg
END:VEVENT
BEGIN:VEVENT
DTSTART;TZID=America/Kentucky/Louisville:20260418T130000
DTEND;TZID=America/Kentucky/Louisville:20260418T140000
DTSTAMP:20260424T071945
CREATED:20260325T194854Z
LAST-MODIFIED:20260325T194854Z
UID:10002501-1776517200-1776520800@www.speedmuseum.org
SUMMARY:Collection Highlights Drop-In Tour
DESCRIPTION:Explore the Speed and engage in conversations during this one-hour Docent-guided tour focused on the highlights of our collection. Free with admission. \nFor more information\, visit our tours page.
URL:https://www.speedmuseum.org/event/collection-highlights-drop-in-tour-2/2026-04-18/
CATEGORIES:Tours
ATTACH;FMTTYPE=image/jpeg:https://www.speedmuseum.org/wp-content/uploads/20260312_144040381_iOS-scaled-e1774467993395.jpg
END:VEVENT
BEGIN:VEVENT
DTSTART;TZID=America/Kentucky/Louisville:20260418T130000
DTEND;TZID=America/Kentucky/Louisville:20260418T140000
DTSTAMP:20260424T071945
CREATED:20260121T214058Z
LAST-MODIFIED:20260121T214139Z
UID:10002254-1776517200-1776520800@www.speedmuseum.org
SUMMARY:Speed Chat Spot
DESCRIPTION:Check out Speed Chat Spots. During this time frame a friendly docent will be available to chat about our collection\, for specific Chat Spot locations check in with Guest Services in the Front Lobby upon arrival.
URL:https://www.speedmuseum.org/event/speed-chat-spot/2026-04-18/
CATEGORIES:Tours
ATTACH;FMTTYPE=image/jpeg:https://www.speedmuseum.org/wp-content/uploads/20250321_213138981_iOS-scaled-e1769031302890.jpg
END:VEVENT
BEGIN:VEVENT
DTSTART;TZID=America/Kentucky/Louisville:20260418T150000
DTEND;TZID=America/Kentucky/Louisville:20260418T163000
DTSTAMP:20260424T071945
CREATED:20260324T173922Z
LAST-MODIFIED:20260324T173922Z
UID:10002389-1776524400-1776529800@www.speedmuseum.org
SUMMARY:The Christophers at Speed Cinema
DESCRIPTION:The Christophers\nDirected by Steven Soderbergh \nSaturday\, April 18\, 3 pm | BUY TICKETS \n$12 | $8 Speed members \n“A crackling original drama about artistic legacy in all its facets.”—Peter Debruge\, Variety \nSteven Soderbergh (Sex\, Lies\, and Videotape) directs this cheeky tale of art forgery\, ambition\, caustic critique\, and greed grounded in striking performances by Ian McKellen and Michaela Coel. \nJulian Sklar (McKellen) was once a star of London’s 1960’s and 70’s pop art explosion\, but he hasn’t painted in decades and has been broke for years. \nHis two estranged children (James Corden and Jessica Gunning)\, desperate for an inheritance\, hire Lori (Coel)\, an art restorer and former forger\, to pose as a prospective assistant in order to access eight unfinished portraits of a former lover named Christopher that Julian has buried deep in storage. Her plan is to complete them\, then return them to storage\, where they are to be “discovered” upon Julian’s death. 2025\, U.K.\, DCP\, 100 minutes. Rated R.
URL:https://www.speedmuseum.org/event/the-christophers-at-speed-cinema-2/
CATEGORIES:Cinema
ATTACH;FMTTYPE=image/jpeg:https://www.speedmuseum.org/wp-content/uploads/THE-CHRISTOPHERS_STILL-1_Michaela-Coel-and-Ian-McKellen_Courtesy-of-NEON.jpg
END:VEVENT
BEGIN:VEVENT
DTSTART;TZID=America/Kentucky/Louisville:20260418T180000
DTEND;TZID=America/Kentucky/Louisville:20260418T193000
DTSTAMP:20260424T071945
CREATED:20260324T173940Z
LAST-MODIFIED:20260324T173940Z
UID:10002390-1776535200-1776540600@www.speedmuseum.org
SUMMARY:The Christophers at Speed Cinema
DESCRIPTION:The Christophers\nDirected by Steven Soderbergh \nSaturday\, April 18\, 6 pm | BUY TICKETS \n$12 | $8 Speed members \n“A crackling original drama about artistic legacy in all its facets.”—Peter Debruge\, Variety \nSteven Soderbergh (Sex\, Lies\, and Videotape) directs this cheeky tale of art forgery\, ambition\, caustic critique\, and greed grounded in striking performances by Ian McKellen and Michaela Coel. \nJulian Sklar (McKellen) was once a star of London’s 1960’s and 70’s pop art explosion\, but he hasn’t painted in decades and has been broke for years. \nHis two estranged children (James Corden and Jessica Gunning)\, desperate for an inheritance\, hire Lori (Coel)\, an art restorer and former forger\, to pose as a prospective assistant in order to access eight unfinished portraits of a former lover named Christopher that Julian has buried deep in storage. Her plan is to complete them\, then return them to storage\, where they are to be “discovered” upon Julian’s death. 2025\, U.K.\, DCP\, 100 minutes. Rated R.
URL:https://www.speedmuseum.org/event/the-christophers-at-speed-cinema-3/
CATEGORIES:Cinema
ATTACH;FMTTYPE=image/jpeg:https://www.speedmuseum.org/wp-content/uploads/THE-CHRISTOPHERS_STILL-1_Michaela-Coel-and-Ian-McKellen_Courtesy-of-NEON.jpg
END:VEVENT
BEGIN:VEVENT
DTSTART;TZID=America/Kentucky/Louisville:20260419T120000
DTEND;TZID=America/Kentucky/Louisville:20260419T130000
DTSTAMP:20260424T071945
CREATED:20260105T213227Z
LAST-MODIFIED:20260211T141850Z
UID:10002237-1776600000-1776603600@www.speedmuseum.org
SUMMARY:Coming Out (of the Collection): Queer & Trans Art at the Speed Art Museum Tour
DESCRIPTION:Coming Out (of the Collection): Queer & Trans Art at the Speed Art Museum Tour\n \nJoin us an exploration of queer and trans artists’ important contributions to art history. Free with general admission. \nImage: Torso [Body Print]\, 2022 by Keltie Ferris
URL:https://www.speedmuseum.org/event/coming-out-of-the-collection-queer-trans-art-at-the-speed-art-museum-tour/2026-04-19/
CATEGORIES:Tours
ATTACH;FMTTYPE=image/jpeg:https://www.speedmuseum.org/wp-content/uploads/Torso-Body-Print-2022-by-Keltie-Ferris-scaled-e1727969050578-1.jpg
END:VEVENT
BEGIN:VEVENT
DTSTART;TZID=America/Kentucky/Louisville:20260419T130000
DTEND;TZID=America/Kentucky/Louisville:20260419T140000
DTSTAMP:20260424T071945
CREATED:20260325T194946Z
LAST-MODIFIED:20260325T194946Z
UID:10002514-1776603600-1776607200@www.speedmuseum.org
SUMMARY:Collection Highlights Drop-In Tour
DESCRIPTION:Explore the Speed and engage in conversations during this one-hour Docent-guided tour focused on the highlights of our collection. Free with admission. \nFor more information\, visit our tours page.
URL:https://www.speedmuseum.org/event/collection-highlights-drop-in-tour-3/2026-04-19/
CATEGORIES:Tours
ATTACH;FMTTYPE=image/jpeg:https://www.speedmuseum.org/wp-content/uploads/20260312_144040381_iOS-scaled-e1774467993395.jpg
END:VEVENT
BEGIN:VEVENT
DTSTART;TZID=America/Kentucky/Louisville:20260419T130000
DTEND;TZID=America/Kentucky/Louisville:20260419T140000
DTSTAMP:20260424T071945
CREATED:20260121T214415Z
LAST-MODIFIED:20260121T214415Z
UID:10002272-1776603600-1776607200@www.speedmuseum.org
SUMMARY:Speed Chat Spot
DESCRIPTION:Check out Speed Chat Spots. During this time frame a friendly docent will be available to chat about our collection\, for specific Chat Spot locations check in with Guest Services in the Front Lobby upon arrival.
URL:https://www.speedmuseum.org/event/speed-chat-spot-5/2026-04-19/
CATEGORIES:Tours
ATTACH;FMTTYPE=image/jpeg:https://www.speedmuseum.org/wp-content/uploads/20250321_213138981_iOS-scaled-e1769031302890.jpg
END:VEVENT
BEGIN:VEVENT
DTSTART;TZID=America/Kentucky/Louisville:20260419T130000
DTEND;TZID=America/Kentucky/Louisville:20260419T160000
DTSTAMP:20260424T071945
CREATED:20260401T201211Z
LAST-MODIFIED:20260416T201308Z
UID:10002533-1776603600-1776614400@www.speedmuseum.org
SUMMARY:Speed Together: Explore + Create
DESCRIPTION:Speed Together: Explore + Create  \nA monthly Sunday of art\, creativity\, and self-guided discovery  \nSpeed Together is a Sunday program where visitors of all ages can explore the Speed’s collections and galleries at their own pace. Each session offers opportunities for self-guided discovery\, light creative activities\, and quiet moments to reflect\, connect\, or experiment with artmaking. Families\, friends\, and first-time visitors can enjoy a relaxed\, flexible experience designed to make the museum welcoming and accessible to everyone.\n\nFrom 1 – 4 p.m.\, visitors can experience a variety of offerings\, including but not limited to the following:\n(Please see the welcome table for more details) \n\nSkill Share Sessions\, 1 – 2 pm in Gheen’s Court\nA casual\, classroom-style experience centered on learning and exchange. Skill Share Sessions features community members leading approachable sessions on various topics\, tools\, or ideas. Come ready to observe\, ask questions\, and learn something new.\n\nApril’s Skill Share Session \nWhat’s Your Number? A No-Stress Intro to the Enneagram (Led by Dr. Abby Koenig)\nPersonality tests are fun. The Enneagram is… a little more honest. This casual\, classroom-style session is a low-pressure introduction to a tool that helps you understand how you think\, react\, and relate to other people (for better or worse). We’ll walk through the basics of the nine types\, what motivates them\, and how they show up in everyday life—especially under stress. No deep soul-searching required. Just come ready to listen\, laugh a little\, and maybe recognize yourself (and everyone else) in the process. No experience needed\, just curiosity and a willingness to learn something new. \nDr. Abby Koenig is a leadership development strategist\, executive coach\, keynote speaker\, and professional storyteller—both on stage and in real life. She helps leaders communicate better\, navigate emotional intelligence\, and lead with clarity using a mix of research\, real-world experience\, storytelling\, and just enough humor to keep things engaging. She currently serves as Organizational Development Lead at LG&E and KU Energy / PPL Corporation\, where she designs leadership development programs and enterprise learning initiatives that help leaders communicate clearly\, collaborate effectively\, and lead through change. More about her work can be found at DrKoenig.online. \n\n\nIn the Making\, 2 – 3:30 pm in Gheen’s Court (Led by local fiber artist Chaney Williams)\nA welcoming\, drop-in space for hands-on making and meaningful connection. In the Making invites participants to bring their own projects or join a guided activity\, with each session shifting between open crafting and lightly facilitated creative prompts. Whether you’re here to focus\, experiment\, or be in community\, this is a place to slow down\, share ideas\, and create alongside others. Grab a drink or snack from Marigold and join us in Gheen’s court for In the Making.\n\nOpen Studio\, 3 – 4 pm in the Classroom\nA flexible\, drop-in studio experience designed for independent exploration and creative play. Open Studio offers a self-guided environment with accessible materials\, light prompts\, and space to experiment freely\, no instruction\, no pressure. Whether you’re inspired after exploring the museum\, continuing a project\, trying something new\, or simply looking for a quiet moment of making\, our classroom becomes your space to explore\, reflect\, and create at your own rhythm.
URL:https://www.speedmuseum.org/event/speed-together-explore-create/
CATEGORIES:Public Programs
ATTACH;FMTTYPE=image/jpeg:https://www.speedmuseum.org/wp-content/uploads/FamilyDay-4-5-24-16-scaled-e1775074285133.jpg
END:VEVENT
BEGIN:VEVENT
DTSTART;TZID=America/Kentucky/Louisville:20260419T150000
DTEND;TZID=America/Kentucky/Louisville:20260419T160000
DTSTAMP:20260424T071945
CREATED:20260121T214510Z
LAST-MODIFIED:20260121T214510Z
UID:10002290-1776610800-1776614400@www.speedmuseum.org
SUMMARY:Speed Chat Spot
DESCRIPTION:Check out Speed Chat Spots. During this time frame a friendly docent will be available to chat about our collection\, for specific Chat Spot locations check in with Guest Services in the Front Lobby upon arrival.
URL:https://www.speedmuseum.org/event/speed-chat-spot-6/2026-04-19/
CATEGORIES:Tours
ATTACH;FMTTYPE=image/jpeg:https://www.speedmuseum.org/wp-content/uploads/20250321_213138981_iOS-scaled-e1769031302890.jpg
END:VEVENT
BEGIN:VEVENT
DTSTART;TZID=America/Kentucky/Louisville:20260419T150000
DTEND;TZID=America/Kentucky/Louisville:20260419T163000
DTSTAMP:20260424T071945
CREATED:20260324T174000Z
LAST-MODIFIED:20260324T174000Z
UID:10002391-1776610800-1776616200@www.speedmuseum.org
SUMMARY:The Christophers at Speed Cinema
DESCRIPTION:The Christophers\nDirected by Steven Soderbergh \nSunday\, April 19\, 3 pm | BUY TICKETS \n$12 | $8 Speed members \n“A crackling original drama about artistic legacy in all its facets.”—Peter Debruge\, Variety \nSteven Soderbergh (Sex\, Lies\, and Videotape) directs this cheeky tale of art forgery\, ambition\, caustic critique\, and greed grounded in striking performances by Ian McKellen and Michaela Coel. \nJulian Sklar (McKellen) was once a star of London’s 1960’s and 70’s pop art explosion\, but he hasn’t painted in decades and has been broke for years. \nHis two estranged children (James Corden and Jessica Gunning)\, desperate for an inheritance\, hire Lori (Coel)\, an art restorer and former forger\, to pose as a prospective assistant in order to access eight unfinished portraits of a former lover named Christopher that Julian has buried deep in storage. Her plan is to complete them\, then return them to storage\, where they are to be “discovered” upon Julian’s death. 2025\, U.K.\, DCP\, 100 minutes. Rated R.
URL:https://www.speedmuseum.org/event/the-christophers-at-speed-cinema-4/
CATEGORIES:Cinema
ATTACH;FMTTYPE=image/jpeg:https://www.speedmuseum.org/wp-content/uploads/THE-CHRISTOPHERS_STILL-1_Michaela-Coel-and-Ian-McKellen_Courtesy-of-NEON.jpg
END:VEVENT
END:VCALENDAR