BEGIN:VCALENDAR
VERSION:2.0
PRODID:-//Speed Art Museum - ECPv6.15.18//NONSGML v1.0//EN
CALSCALE:GREGORIAN
METHOD:PUBLISH
X-ORIGINAL-URL:https://www.speedmuseum.org
X-WR-CALDESC:Events for Speed Art Museum
REFRESH-INTERVAL;VALUE=DURATION:PT1H
X-Robots-Tag:noindex
X-PUBLISHED-TTL:PT1H
BEGIN:VTIMEZONE
TZID:America/Kentucky/Louisville
BEGIN:DAYLIGHT
TZOFFSETFROM:-0500
TZOFFSETTO:-0400
TZNAME:EDT
DTSTART:20250309T070000
END:DAYLIGHT
BEGIN:STANDARD
TZOFFSETFROM:-0400
TZOFFSETTO:-0500
TZNAME:EST
DTSTART:20251102T060000
END:STANDARD
BEGIN:DAYLIGHT
TZOFFSETFROM:-0500
TZOFFSETTO:-0400
TZNAME:EDT
DTSTART:20260308T070000
END:DAYLIGHT
BEGIN:STANDARD
TZOFFSETFROM:-0400
TZOFFSETTO:-0500
TZNAME:EST
DTSTART:20261101T060000
END:STANDARD
BEGIN:DAYLIGHT
TZOFFSETFROM:-0500
TZOFFSETTO:-0400
TZNAME:EDT
DTSTART:20270314T070000
END:DAYLIGHT
BEGIN:STANDARD
TZOFFSETFROM:-0400
TZOFFSETTO:-0500
TZNAME:EST
DTSTART:20271107T060000
END:STANDARD
END:VTIMEZONE
BEGIN:VEVENT
DTSTART;TZID=America/Kentucky/Louisville:20260402T100000
DTEND;TZID=America/Kentucky/Louisville:20260402T170000
DTSTAMP:20260420T070815
CREATED:20260318T152217Z
LAST-MODIFIED:20260318T153741Z
UID:10002374-1775124000-1775149200@www.speedmuseum.org
SUMMARY:Opening day for "Your “Boy\,” Jack: Fluid Impressions of Lilian Miller"
DESCRIPTION:April 2\, 2026 – July 26\, 2026\nBorn in Tokyo in 1895 to American parents\, Lilian “Jack” Miller moved fluidly across nations\, cultures\, and identities. Trained in traditional Japanese artmaking techniques\, she became one of the few American artists working in Japan to fully take up the modern woodblock printmaking for which she is best known. \nMiller\, known to family and friends as “Jack\,” defied social convention with her androgynous style\, independent spirit\, and deeply personal work. Her prints\, often portraying a variety of Japanese and Korean subjects\, reflect the life of a queer artist who transcended aesthetic and societal boundaries\, bringing us new perspectives and blended traditions. Featuring nine prints from the Speed’s collection\, this exhibition reintroduces Miller as a modern visionary whose art has reshaped inherited traditions and whose life and work continue to engage questions of gender\, geography\, and artistic practice. \n2026 Season Exhibition Sponsors \n\n\n\nCary Brown and Steven E. Epstein\n\n\nSusan Dabney Lavin and Allan Lavin\n\n\nTodd P. Lowe and Fran C. Ratterman\n\n\nDebra and Ronald Murphy\n\n\nDr. Victoria Phillips and Travis Anderson\n\n\nSociable Weaver Foundation
URL:https://www.speedmuseum.org/event/opening-day-for-your-boy-jack-fluid-impressions-of-lilian-miller/
CATEGORIES:Exhibition Opening
ATTACH;FMTTYPE=image/jpeg:https://www.speedmuseum.org/wp-content/uploads/1970_8_5_pro_v1.jpg
END:VEVENT
BEGIN:VEVENT
DTSTART;TZID=America/Kentucky/Louisville:20260402T180000
DTEND;TZID=America/Kentucky/Louisville:20260402T193000
DTSTAMP:20260420T070815
CREATED:20260319T195127Z
LAST-MODIFIED:20260319T202747Z
UID:10002376-1775152800-1775158200@www.speedmuseum.org
SUMMARY:Dont Look Back at Speed Cinema
DESCRIPTION:Dont Look Back\nDirected by D. A. Pennebaker \nThursday\, April 2\, 6 pm | BUY TICKETS \n$12 | $8 Speed and LPM members \n“Both a great concert movie and an amazing documentary of the mid-60s cutting edge pop culture.”—Michael Wilmington\, Chicago Tribune \nBob Dylan is captured on-screen as he never would be again in this groundbreaking film from D. A. Pennebaker. The legendary documentarian finds Dylan in England during his 1965 tour\, which would be his last as an acoustic artist. In this wildly entertaining vision of one of the twentieth century’s greatest artists\, Dylan is surrounded by teen fans\, gets into heated philosophical jousts with journalists\, and kicks back with fellow musicians Joan Baez\, Donovan\, and Alan Price. \nFeaturing some of Dylan’s most famous songs\, including “Subterranean Homesick Blues\,” “The Times They Are A-Changin’\,” and “It’s All Over Now\, Baby Blue\,” Dont Look Back is a radically conceived portrait of an American icon that has influenced decades of vérité behind-the-scenes documentaries. 1967\, U.S.\, DCP\, 96 minutes. Recommended for 15+ \nCo-presented with WFPK. Bob Dylan will appear in concert Monday\, April 6 at the Louisville Palace.
URL:https://www.speedmuseum.org/event/dont-look-back-at-speed-cinema/
CATEGORIES:Cinema
ATTACH;FMTTYPE=image/jpeg:https://www.speedmuseum.org/wp-content/uploads/28655id_180_primary_w1600.jpg
END:VEVENT
BEGIN:VEVENT
DTSTART;TZID=America/Kentucky/Louisville:20260403T130000
DTEND;TZID=America/Kentucky/Louisville:20260403T140000
DTSTAMP:20260420T070815
CREATED:20260205T180504Z
LAST-MODIFIED:20260325T194810Z
UID:10002339-1775221200-1775224800@www.speedmuseum.org
SUMMARY:Collection Highlights Drop-In Tour
DESCRIPTION:Explore the Speed and engage in conversations during this one-hour Docent-guided tour focused on the highlights of our collection. Free with admission. \nFor more information\, visit our tours page.
URL:https://www.speedmuseum.org/event/collection-highlights-drop-in-tour-25/
CATEGORIES:Tours
ATTACH;FMTTYPE=image/jpeg:https://www.speedmuseum.org/wp-content/uploads/20260312_144040381_iOS-scaled-e1774467993395.jpg
END:VEVENT
BEGIN:VEVENT
DTSTART;TZID=America/Kentucky/Louisville:20260403T180000
DTEND;TZID=America/Kentucky/Louisville:20260403T200000
DTSTAMP:20260420T070815
CREATED:20260323T145906Z
LAST-MODIFIED:20260323T145906Z
UID:10002379-1775239200-1775246400@www.speedmuseum.org
SUMMARY:Days and Nights in the Forest sat Speed Cinema
DESCRIPTION:Days and Nights in the Forest\nDirected by Satyajit Ray \nSaturday\, April 3\, 6 pm | BUY TICKETS \n$12 | $8 Speed members \n“Packed with cultural references and sly satire\, this is also a hugely entertaining comic romp.”—David Parkinson\, Empire Magazine \nAdapted from Sunil Gangopadhyay’s celebrated 1968 novel\, Days and Nights in the Forest is one of director Satyajit Ray’s greatest achievements\, a modern search for connection that conjures the timeless resonance of a folktale. \nDesperate to flee Calcutta’s rat race\, four friends—Ashim (Soumitra Chatterjee)\, Sanjoy (Subhendu Chatterjee)\, Hari (Samit Bhanja)\, and Shekhar (Rabi Ghosh)—drive to Palamu\, one of India’s rural “tribal lands\,” where they bribe a watchman into letting them stay at a sylvan guesthouse. Despite vowing to get away from it all\, the crew soon mixes with the locals\, including a woodland family: the soulful yet mischievous Aparna (Sharmila Tagore) takes to the overconfident Ashim\, while her widowed sister-in-law Jaya (Kaberi Bose) grows closer to the bookish Sanjoy. At the same time\, Hari\, fresh off a break-up\, woos a Santal girl named Duli (Simi Garewal); and Shekhar\, despite his own penchant for gambling\, tries to rein in his companions’ boozy hedonism. \nFilled with some of Ray’s most indelible characterizations and lavish images (shot by longtime cinematographer Soumendu Roy)\, Days and Nights in the Forest touches on masculine vulnerabilities and Indian class divisions with the graceful complexity of a master at his peak. 1970\, India\, 4K DCP\, in Bengali with English subtitles\, 116 minutes. Recommended for 14+. \nThese screenings will include a theatres-only pre-recorded introduction from director Wes Anderson. \nRestored in 4K in 2025 by The Film Foundation’s World Cinema Project and Film Heritage Foundation in collaboration with Janus Films – The Criterion Collection at L’Immagine Ritrovata laboratory\, from the original camera and sound negatives provided by Purnima Dutta and the magnetic track preserved by BFI National Archive. Funding provided by the Golden Globe Foundation. Special thanks to Wes Anderson and Sandip Ray.
URL:https://www.speedmuseum.org/event/days-and-nights-in-the-forest-sat-speed-cinema/
CATEGORIES:Cinema
ATTACH;FMTTYPE=image/jpeg:https://www.speedmuseum.org/wp-content/uploads/DaysAndNightsInForest_image_01-scaled.jpg
END:VEVENT
BEGIN:VEVENT
DTSTART;TZID=America/Kentucky/Louisville:20260403T180000
DTEND;TZID=America/Kentucky/Louisville:20260403T200000
DTSTAMP:20260420T070815
CREATED:20260319T212227Z
LAST-MODIFIED:20260325T200035Z
UID:10002377-1775239200-1775246400@www.speedmuseum.org
SUMMARY:Serpent’s Path (1998) and Chime (2024) at Speed Cinema
DESCRIPTION:Serpent’s Path (1998) and Chime (2024)\nDirected by Kiyoshi Kurosawa \nFriday\, April 3\, 6 pm | BUY TICKETS \n$12 | $8 Speed members \nA masterclass in escalating dread and shocking violence\, Chime reaffirms Kiyoshi Kurosawa as one of modern horror’s most innovative and unpredictable visionaries. During a class\, culinary instructor Matsuoka (Mutsuo Yoshioka) witnesses the suicide of a young student (Seiichi Kohinata)\, driven to insanity by what he claims is a chiming sound that controls his mind. Soon\, Matsuoka begins hearing it\, too\, and descends into a mental abyss that warps his perception of reality and gives vent to his darkest impulses. Expertly blending psychological portraiture and hallucinatory mystery\, Kurosawa offers a chilling depiction of madness that interrogates the very stability of our everyday existence\, with the director’s patented creeping tracking shots and complex sound design fashioning an immersively terrifying and unnerving cinematic experience. 2024\, Japan\, DCP\, in Japanese with English subtitles\, 45 minutes. \nStraight off Cure (1997)\, his international breakthrough\, Kiyoshi Kurosawa directed two low-budget films using the same basic premise and the same lead actor (Sho Aikawa) to completely different ends. The experiment first resulted in Serpent’s Path (1998\, later remade in 2024)\, a dark gangland thriller with philosophical overtones. Obsessed with avenging his young daughter’s murder\, yakuza subordinate Miyashita (Teruyuki Kagawa) recruits Nijima (Aikawa)\, a brilliant yet strangely detached math teacher\, to help carry out a scheme to kidnap and torture the man allegedly responsible. But the plan goes awry when their target\, Otsuki (Yurei Yanagi)\, fingers another mobster as the mastermind behind Miyashita’s tragedy. As the two partners ascend the yakuza chain of command in search of the true culprit\, Miyashita and Nijima follow the cold\, calculating logic of revenge\, descending into a moral abyss from which they may never surface. Featuring Kurosawa’s patented long takes and his claustrophobic arrangement of space\, Serpent’s Path is one of the legendary director’s most chilling investigations into the endless cycle of violence and the evil that lodges in every heart. 1998\, Japan\, DCP\, in Japanese with English subtitles\, 85 minutes. Recommended for 17+.  Total running time: 130 minutes.
URL:https://www.speedmuseum.org/event/chime-and-serpents-path-at-speed-cinema/
CATEGORIES:Cinema
ATTACH;FMTTYPE=image/jpeg:https://www.speedmuseum.org/wp-content/uploads/SerpentsPath_image_04-scaled.jpg
END:VEVENT
BEGIN:VEVENT
DTSTART;TZID=America/Kentucky/Louisville:20260404T103000
DTEND;TZID=America/Kentucky/Louisville:20260404T123000
DTSTAMP:20260420T070815
CREATED:20260218T204225Z
LAST-MODIFIED:20260330T172808Z
UID:10002341-1775298600-1775305800@www.speedmuseum.org
SUMMARY:April Adult Workshop - Plein Air Watercolor
DESCRIPTION:April 4th\, 2026 \nFacilitated by: Emily Fautz \nProject: Plein Air Watercolor: A Relaxed Painting Workshop \n\nSOLD OUT\n\nCome enjoy a laid-back watercolor workshop as you soak in the sights of our art park and paint along with us. All materials are provided\, and no experience is needed. We’ll be painting outdoors to enjoy the fresh air\, and if rain rolls in\, we’ll move things inside and keep the creativity flowing. \n\nEmily Fautz is a Louisville-based painter and a 2015 graduate of the University of Louisville with a BA in Studio Art. Since 2013\, she has refined a dual specialty in acrylic and watercolor\, focusing on the intersection of botanical illustration and creature design. Her work blends technical precision with imaginative storytelling\, utilizing the unique properties of water media to explore organic textures and fluid forms. As an educator for the Speed Art Museum\, Emily guides students through the complexities of water control and detail work\, helping them translate the natural world and creative elements onto the page.
URL:https://www.speedmuseum.org/event/april-adult-workshop-plein-air-watercolor/
CATEGORIES:Workshops
ATTACH;FMTTYPE=image/jpeg:https://www.speedmuseum.org/wp-content/uploads/Event-16x9-format.jpg
END:VEVENT
BEGIN:VEVENT
DTSTART;TZID=America/Kentucky/Louisville:20260404T130000
DTEND;TZID=America/Kentucky/Louisville:20260404T140000
DTSTAMP:20260420T070815
CREATED:20260401T134314Z
LAST-MODIFIED:20260401T134314Z
UID:10002531-1775307600-1775311200@www.speedmuseum.org
SUMMARY:Collection Highlights Drop-In Tour
DESCRIPTION:Explore the Speed and engage in conversations during this one-hour Docent-guided tour focused on the highlights of our collection. Free with admission. \nFor more information\, visit our tours page.
URL:https://www.speedmuseum.org/event/collection-highlights-drop-in-tour-4/
CATEGORIES:Tours
ATTACH;FMTTYPE=image/jpeg:https://www.speedmuseum.org/wp-content/uploads/20260312_144040381_iOS-scaled-e1774467993395.jpg
END:VEVENT
BEGIN:VEVENT
DTSTART;TZID=America/Kentucky/Louisville:20260404T130000
DTEND;TZID=America/Kentucky/Louisville:20260404T140000
DTSTAMP:20260420T070815
CREATED:20260121T214058Z
LAST-MODIFIED:20260121T214139Z
UID:10002252-1775307600-1775311200@www.speedmuseum.org
SUMMARY:Speed Chat Spot
DESCRIPTION:Check out Speed Chat Spots. During this time frame a friendly docent will be available to chat about our collection\, for specific Chat Spot locations check in with Guest Services in the Front Lobby upon arrival.
URL:https://www.speedmuseum.org/event/speed-chat-spot/2026-04-04/
CATEGORIES:Tours
ATTACH;FMTTYPE=image/jpeg:https://www.speedmuseum.org/wp-content/uploads/20250321_213138981_iOS-scaled-e1769031302890.jpg
END:VEVENT
BEGIN:VEVENT
DTSTART;TZID=America/Kentucky/Louisville:20260404T150000
DTEND;TZID=America/Kentucky/Louisville:20260404T170000
DTSTAMP:20260420T070815
CREATED:20260323T145947Z
LAST-MODIFIED:20260323T145947Z
UID:10002380-1775314800-1775322000@www.speedmuseum.org
SUMMARY:Days and Nights in the Forest sat Speed Cinema
DESCRIPTION:Days and Nights in the Forest\nDirected by Satyajit Ray \nSunday\, April 4\, 3 pm | BUY TICKETS \n$12 | $8 Speed members \n“Packed with cultural references and sly satire\, this is also a hugely entertaining comic romp.”—David Parkinson\, Empire Magazine \nAdapted from Sunil Gangopadhyay’s celebrated 1968 novel\, Days and Nights in the Forest is one of director Satyajit Ray’s greatest achievements\, a modern search for connection that conjures the timeless resonance of a folktale. \nDesperate to flee Calcutta’s rat race\, four friends—Ashim (Soumitra Chatterjee)\, Sanjoy (Subhendu Chatterjee)\, Hari (Samit Bhanja)\, and Shekhar (Rabi Ghosh)—drive to Palamu\, one of India’s rural “tribal lands\,” where they bribe a watchman into letting them stay at a sylvan guesthouse. Despite vowing to get away from it all\, the crew soon mixes with the locals\, including a woodland family: the soulful yet mischievous Aparna (Sharmila Tagore) takes to the overconfident Ashim\, while her widowed sister-in-law Jaya (Kaberi Bose) grows closer to the bookish Sanjoy. At the same time\, Hari\, fresh off a break-up\, woos a Santal girl named Duli (Simi Garewal); and Shekhar\, despite his own penchant for gambling\, tries to rein in his companions’ boozy hedonism. \nFilled with some of Ray’s most indelible characterizations and lavish images (shot by longtime cinematographer Soumendu Roy)\, Days and Nights in the Forest touches on masculine vulnerabilities and Indian class divisions with the graceful complexity of a master at his peak. 1970\, India\, 4K DCP\, in Bengali with English subtitles\, 116 minutes. Recommended for 14+. \nThese screenings will include a theatres-only pre-recorded introduction from director Wes Anderson. \nRestored in 4K in 2025 by The Film Foundation’s World Cinema Project and Film Heritage Foundation in collaboration with Janus Films – The Criterion Collection at L’Immagine Ritrovata laboratory\, from the original camera and sound negatives provided by Purnima Dutta and the magnetic track preserved by BFI National Archive. Funding provided by the Golden Globe Foundation. Special thanks to Wes Anderson and Sandip Ray.
URL:https://www.speedmuseum.org/event/days-and-nights-in-the-forest-sat-speed-cinema-2/
CATEGORIES:Cinema
ATTACH;FMTTYPE=image/jpeg:https://www.speedmuseum.org/wp-content/uploads/DaysAndNightsInForest_image_01-scaled.jpg
END:VEVENT
BEGIN:VEVENT
DTSTART;TZID=America/Kentucky/Louisville:20260404T150000
DTEND;TZID=America/Kentucky/Louisville:20260404T170000
DTSTAMP:20260420T070815
CREATED:20260319T212251Z
LAST-MODIFIED:20260325T200020Z
UID:10002378-1775314800-1775322000@www.speedmuseum.org
SUMMARY:Serpent’s Path (1998) and Chime (2024) at Speed Cinema
DESCRIPTION:Serpent’s Path (1998) and Chime (2024)\nDirected by Kiyoshi Kurosawa \nSaturday\, April 4\, 3 pm | BUY TICKETS \n$12 | $8 Speed members \nA masterclass in escalating dread and shocking violence\, Chime reaffirms Kiyoshi Kurosawa as one of modern horror’s most innovative and unpredictable visionaries. During a class\, culinary instructor Matsuoka (Mutsuo Yoshioka) witnesses the suicide of a young student (Seiichi Kohinata)\, driven to insanity by what he claims is a chiming sound that controls his mind. Soon\, Matsuoka begins hearing it\, too\, and descends into a mental abyss that warps his perception of reality and gives vent to his darkest impulses. Expertly blending psychological portraiture and hallucinatory mystery\, Kurosawa offers a chilling depiction of madness that interrogates the very stability of our everyday existence\, with the director’s patented creeping tracking shots and complex sound design fashioning an immersively terrifying and unnerving cinematic experience. 2024\, Japan\, DCP\, in Japanese with English subtitles\, 45 minutes. \nStraight off Cure (1997)\, his international breakthrough\, Kiyoshi Kurosawa directed two low-budget films using the same basic premise and the same lead actor (Sho Aikawa) to completely different ends. The experiment first resulted in Serpent’s Path (1998\, later remade in 2024)\, a dark gangland thriller with philosophical overtones. Obsessed with avenging his young daughter’s murder\, yakuza subordinate Miyashita (Teruyuki Kagawa) recruits Nijima (Aikawa)\, a brilliant yet strangely detached math teacher\, to help carry out a scheme to kidnap and torture the man allegedly responsible. But the plan goes awry when their target\, Otsuki (Yurei Yanagi)\, fingers another mobster as the mastermind behind Miyashita’s tragedy. As the two partners ascend the yakuza chain of command in search of the true culprit\, Miyashita and Nijima follow the cold\, calculating logic of revenge\, descending into a moral abyss from which they may never surface. Featuring Kurosawa’s patented long takes and his claustrophobic arrangement of space\, Serpent’s Path is one of the legendary director’s most chilling investigations into the endless cycle of violence and the evil that lodges in every heart. 1998\, Japan\, DCP\, in Japanese with English subtitles\, 85 minutes. Recommended for 17+.  Total running time: 130 minutes.
URL:https://www.speedmuseum.org/event/chime-and-serpents-path-at-speed-cinema-2/
CATEGORIES:Cinema
ATTACH;FMTTYPE=image/jpeg:https://www.speedmuseum.org/wp-content/uploads/SerpentsPath_image_04-scaled.jpg
END:VEVENT
BEGIN:VEVENT
DTSTART;TZID=America/Kentucky/Louisville:20260405T130000
DTEND;TZID=America/Kentucky/Louisville:20260405T140000
DTSTAMP:20260420T070815
CREATED:20260401T134325Z
LAST-MODIFIED:20260401T134325Z
UID:10002532-1775394000-1775397600@www.speedmuseum.org
SUMMARY:Collection Highlights Drop-In Tour
DESCRIPTION:Explore the Speed and engage in conversations during this one-hour Docent-guided tour focused on the highlights of our collection. Free with admission. \nFor more information\, visit our tours page.
URL:https://www.speedmuseum.org/event/collection-highlights-drop-in-tour-5/
CATEGORIES:Tours
ATTACH;FMTTYPE=image/jpeg:https://www.speedmuseum.org/wp-content/uploads/20260312_144040381_iOS-scaled-e1774467993395.jpg
END:VEVENT
BEGIN:VEVENT
DTSTART;TZID=America/Kentucky/Louisville:20260405T130000
DTEND;TZID=America/Kentucky/Louisville:20260405T140000
DTSTAMP:20260420T070815
CREATED:20260121T214415Z
LAST-MODIFIED:20260121T214415Z
UID:10002270-1775394000-1775397600@www.speedmuseum.org
SUMMARY:Speed Chat Spot
DESCRIPTION:Check out Speed Chat Spots. During this time frame a friendly docent will be available to chat about our collection\, for specific Chat Spot locations check in with Guest Services in the Front Lobby upon arrival.
URL:https://www.speedmuseum.org/event/speed-chat-spot-5/2026-04-05/
CATEGORIES:Tours
ATTACH;FMTTYPE=image/jpeg:https://www.speedmuseum.org/wp-content/uploads/20250321_213138981_iOS-scaled-e1769031302890.jpg
END:VEVENT
BEGIN:VEVENT
DTSTART;TZID=America/Kentucky/Louisville:20260405T150000
DTEND;TZID=America/Kentucky/Louisville:20260405T160000
DTSTAMP:20260420T070815
CREATED:20260121T214510Z
LAST-MODIFIED:20260121T214510Z
UID:10002288-1775401200-1775404800@www.speedmuseum.org
SUMMARY:Speed Chat Spot
DESCRIPTION:Check out Speed Chat Spots. During this time frame a friendly docent will be available to chat about our collection\, for specific Chat Spot locations check in with Guest Services in the Front Lobby upon arrival.
URL:https://www.speedmuseum.org/event/speed-chat-spot-6/2026-04-05/
CATEGORIES:Tours
ATTACH;FMTTYPE=image/jpeg:https://www.speedmuseum.org/wp-content/uploads/20250321_213138981_iOS-scaled-e1769031302890.jpg
END:VEVENT
END:VCALENDAR