BEGIN:VCALENDAR
VERSION:2.0
PRODID:-//Speed Art Museum - ECPv6.15.20//NONSGML v1.0//EN
CALSCALE:GREGORIAN
METHOD:PUBLISH
X-WR-CALNAME:Speed Art Museum
X-ORIGINAL-URL:https://www.speedmuseum.org
X-WR-CALDESC:Events for Speed Art Museum
REFRESH-INTERVAL;VALUE=DURATION:PT1H
X-Robots-Tag:noindex
X-PUBLISHED-TTL:PT1H
BEGIN:VTIMEZONE
TZID:America/Kentucky/Louisville
BEGIN:DAYLIGHT
TZOFFSETFROM:-0500
TZOFFSETTO:-0400
TZNAME:EDT
DTSTART:20250309T070000
END:DAYLIGHT
BEGIN:STANDARD
TZOFFSETFROM:-0400
TZOFFSETTO:-0500
TZNAME:EST
DTSTART:20251102T060000
END:STANDARD
BEGIN:DAYLIGHT
TZOFFSETFROM:-0500
TZOFFSETTO:-0400
TZNAME:EDT
DTSTART:20260308T070000
END:DAYLIGHT
BEGIN:STANDARD
TZOFFSETFROM:-0400
TZOFFSETTO:-0500
TZNAME:EST
DTSTART:20261101T060000
END:STANDARD
BEGIN:DAYLIGHT
TZOFFSETFROM:-0500
TZOFFSETTO:-0400
TZNAME:EDT
DTSTART:20270314T070000
END:DAYLIGHT
BEGIN:STANDARD
TZOFFSETFROM:-0400
TZOFFSETTO:-0500
TZNAME:EST
DTSTART:20271107T060000
END:STANDARD
END:VTIMEZONE
BEGIN:VEVENT
DTSTART;TZID=America/Kentucky/Louisville:20260325T180000
DTEND;TZID=America/Kentucky/Louisville:20260325T193000
DTSTAMP:20260421T094847
CREATED:20260311T160102Z
LAST-MODIFIED:20260323T152701Z
UID:10002372-1774461600-1774467000@www.speedmuseum.org
SUMMARY:Nosferatu X Radiohead at Speed Cinema
DESCRIPTION:Silents Synced \nNosferatu X Radiohead\nDirected by F. W. Murnau \nWednesday\, March 25\, 6 pm | SOLD OUT \n$12 | $8 Speed and LPM members \nNosferatu: A Symphony of Horror\, F.W. Murnau’s celebrated silent-era vampire film\, has been given new life for the 21st century: It’s returning to theaters with its orchestral classical score replaced by Radiohead’s dense and moody albums Kid A and Amnesiac. Few people have actually heard the original Hans Erdmann score since much of it was lost; later shows either built off what remained or created new orchestral scores. Nosferatu X Radiohead\, marks the debut of Silents Synced\, a series that marries classic silent films with alternative rock. 1922\, Germany\, DCP\, 90 minutes. \nCo-presented with WFPK.
URL:https://www.speedmuseum.org/event/nosferatu-x-radiohead-at-speed-cinema-2/
CATEGORIES:Cinema
ATTACH;FMTTYPE=image/jpeg:https://www.speedmuseum.org/wp-content/uploads/Nosferatu1.jpg
END:VEVENT
BEGIN:VEVENT
DTSTART;TZID=America/Kentucky/Louisville:20260326T180000
DTEND;TZID=America/Kentucky/Louisville:20260326T193000
DTSTAMP:20260421T094847
CREATED:20260220T204622Z
LAST-MODIFIED:20260309T144001Z
UID:10002365-1774548000-1774553400@www.speedmuseum.org
SUMMARY:Nosferatu X Radiohead at Speed Cinema
DESCRIPTION:Silents Synced \nNosferatu X Radiohead\nDirected by F. W. Murnau \nThursday\, March 26\, 6 pm | SOLD OUT \n$12 | $8 Speed and LPM members \nNosferatu: A Symphony of Horror\, F.W. Murnau’s celebrated silent-era vampire film\, has been given new life for the 21st century: It’s returning to theaters with its orchestral classical score replaced by Radiohead’s dense and moody albums Kid A and Amnesiac. Few people have actually heard the original Hans Erdmann score since much of it was lost; later shows either built off what remained or created new orchestral scores. Nosferatu X Radiohead\, marks the debut of Silents Synced\, a series that marries classic silent films with alternative rock. 1922\, Germany\, DCP\, 90 minutes. \nCo-presented with WFPK.
URL:https://www.speedmuseum.org/event/nosferatu-x-radiohead-at-speed-cinema/
CATEGORIES:Cinema
ATTACH;FMTTYPE=image/jpeg:https://www.speedmuseum.org/wp-content/uploads/Nosferatu1.jpg
END:VEVENT
BEGIN:VEVENT
DTSTART;TZID=America/Kentucky/Louisville:20260327T130000
DTEND;TZID=America/Kentucky/Louisville:20260327T140000
DTSTAMP:20260421T094847
CREATED:20260205T180303Z
LAST-MODIFIED:20260205T180303Z
UID:10002336-1774616400-1774620000@www.speedmuseum.org
SUMMARY:Collection Highlights Drop-In Tour
DESCRIPTION:Explore the Speed and engage in conversations during this one-hour Docent-guided tour focused on the highlights of our collection. Free with admission. \nFor more information\, visit our tours page.
URL:https://www.speedmuseum.org/event/collection-highlights-drop-in-tour-22/
CATEGORIES:Tours
ATTACH;FMTTYPE=image/jpeg:https://www.speedmuseum.org/wp-content/uploads/IMG_6445-scaled-e1723220186355-1.jpg
END:VEVENT
BEGIN:VEVENT
DTSTART;TZID=America/Kentucky/Louisville:20260327T180000
DTEND;TZID=America/Kentucky/Louisville:20260327T203000
DTSTAMP:20260421T094847
CREATED:20260220T213617Z
LAST-MODIFIED:20260220T213617Z
UID:10002366-1774634400-1774643400@www.speedmuseum.org
SUMMARY:Sound of Falling at Speed Cinema
DESCRIPTION:Sound of Falling\nDirected by Mascha Schilinski\n \nFriday\, March 27\, 6 pm | BUY TICKETS \n$12 | $8 Speed members \n“Mascha Schilinski’s superb feature is a masterclass in ethereal\, unnerving brilliance.”—Damon Wise\, Deadline \nIn Mascha Schilinski’s transcendent Sound of Falling\, fragments from a hundred years in one farmhouse coalesce into a cinematic flood of memory. \nGermany’s shortlisted Best International Feature Film entry to the 98th Academy Awards® tracks the lives of four adolescent girls (Alma\, Erika\, Angelika\, Lenka) across the last century – their desires and distress\, their secrets and truths\, their encounters with another’s gaze and defiant gaze in return. Though separated by time\, far-reaching resonances emerge as echoes of experience linger. \nSensual and sensory\, this awe-inducing Cannes prizewinner invites audiences to witness an eternal summer\, a constant now\, and ask: what is looking back at us from the past – or perhaps even from the future? 2025\, Germany\, DCP\, in German with English subtitles\, 155 minutes. Recommended for 17+.
URL:https://www.speedmuseum.org/event/sound-of-falling-at-speed-cinema/
CATEGORIES:Cinema
ATTACH;FMTTYPE=image/jpeg:https://www.speedmuseum.org/wp-content/uploads/SOF_©FabianGamper_StudioZentral_Still_8-scaled-e1771623368866.jpg
END:VEVENT
BEGIN:VEVENT
DTSTART;TZID=America/Kentucky/Louisville:20260328T130000
DTEND;TZID=America/Kentucky/Louisville:20260328T140000
DTSTAMP:20260421T094847
CREATED:20260205T180332Z
LAST-MODIFIED:20260205T180332Z
UID:10002337-1774702800-1774706400@www.speedmuseum.org
SUMMARY:Collection Highlights Drop-In Tour
DESCRIPTION:Explore the Speed and engage in conversations during this one-hour Docent-guided tour focused on the highlights of our collection. Free with admission. \nFor more information\, visit our tours page.
URL:https://www.speedmuseum.org/event/collection-highlights-drop-in-tour-23/
CATEGORIES:Tours
ATTACH;FMTTYPE=image/jpeg:https://www.speedmuseum.org/wp-content/uploads/IMG_6445-scaled-e1723220186355-1.jpg
END:VEVENT
BEGIN:VEVENT
DTSTART;TZID=America/Kentucky/Louisville:20260328T130000
DTEND;TZID=America/Kentucky/Louisville:20260328T140000
DTSTAMP:20260421T094847
CREATED:20260121T214058Z
LAST-MODIFIED:20260121T214139Z
UID:10002251-1774702800-1774706400@www.speedmuseum.org
SUMMARY:Speed Chat Spot
DESCRIPTION:Check out Speed Chat Spots. During this time frame a friendly docent will be available to chat about our collection\, for specific Chat Spot locations check in with Guest Services in the Front Lobby upon arrival.
URL:https://www.speedmuseum.org/event/speed-chat-spot/2026-03-28/
CATEGORIES:Tours
ATTACH;FMTTYPE=image/jpeg:https://www.speedmuseum.org/wp-content/uploads/20250321_213138981_iOS-scaled-e1769031302890.jpg
END:VEVENT
BEGIN:VEVENT
DTSTART;TZID=America/Kentucky/Louisville:20260328T150000
DTEND;TZID=America/Kentucky/Louisville:20260328T173000
DTSTAMP:20260421T094847
CREATED:20260220T213638Z
LAST-MODIFIED:20260220T213638Z
UID:10002367-1774710000-1774719000@www.speedmuseum.org
SUMMARY:Sound of Falling at Speed Cinema
DESCRIPTION:Sound of Falling\nDirected by Mascha Schilinski\n \nSaturday\, March 28\, 3 pm | BUY TICKETS \n$12 | $8 Speed members \n“Mascha Schilinski’s superb feature is a masterclass in ethereal\, unnerving brilliance.”—Damon Wise\, Deadline \nIn Mascha Schilinski’s transcendent Sound of Falling\, fragments from a hundred years in one farmhouse coalesce into a cinematic flood of memory. \nGermany’s shortlisted Best International Feature Film entry to the 98th Academy Awards® tracks the lives of four adolescent girls (Alma\, Erika\, Angelika\, Lenka) across the last century – their desires and distress\, their secrets and truths\, their encounters with another’s gaze and defiant gaze in return. Though separated by time\, far-reaching resonances emerge as echoes of experience linger. \nSensual and sensory\, this awe-inducing Cannes prizewinner invites audiences to witness an eternal summer\, a constant now\, and ask: what is looking back at us from the past – or perhaps even from the future? 2025\, Germany\, DCP\, in German with English subtitles\, 155 minutes. Recommended for 17+.
URL:https://www.speedmuseum.org/event/sound-of-falling-at-speed-cinema-2/
CATEGORIES:Cinema
ATTACH;FMTTYPE=image/jpeg:https://www.speedmuseum.org/wp-content/uploads/SOF_©FabianGamper_StudioZentral_Still_8-scaled-e1771623368866.jpg
END:VEVENT
BEGIN:VEVENT
DTSTART;TZID=America/Kentucky/Louisville:20260328T180000
DTEND;TZID=America/Kentucky/Louisville:20260328T193000
DTSTAMP:20260421T094847
CREATED:20260220T215332Z
LAST-MODIFIED:20260220T215332Z
UID:10002368-1774720800-1774726200@www.speedmuseum.org
SUMMARY:Natchez at Speed Cinema
DESCRIPTION:Natchez\nDirected by Suzannah Herbert \nSaturday\, March 28\, 6 pm | BUY TICKETS \n$12 | $8 Speed members \n“A piercing portrait of a Mississippi town’s Antebellum tourism industry.” — Ross McIndoe\, Slant \nNatchez captures an unsettling clash between history and memory in a small Mississippi town; a layered mosaic of people contending with the weight of the past in a place where it is always present. Equal parts amusing and disturbing\, we journey through an antebellum tourist destination at a crossroads as it grapples with a deeply troubled history that is so thoroughly ingrained in its present\, we’re left to wonder if it’s actually past at all. 2025\, U.S.\, DCP\, 86 minutes.
URL:https://www.speedmuseum.org/event/natchez-at-speed-cinema/
CATEGORIES:Cinema
ATTACH;FMTTYPE=image/jpeg:https://www.speedmuseum.org/wp-content/uploads/NATCHEZ_Noah-Collier_1_FINAL-scaled.jpg
END:VEVENT
BEGIN:VEVENT
DTSTART;TZID=America/Kentucky/Louisville:20260329T123000
DTEND;TZID=America/Kentucky/Louisville:20260329T143000
DTSTAMP:20260421T094847
CREATED:20260223T173444Z
LAST-MODIFIED:20260311T165533Z
UID:10002370-1774787400-1774794600@www.speedmuseum.org
SUMMARY:Small Change (L’argent de poche) at Speed Cinema
DESCRIPTION:2026 UofL French Film Festival \nSmall Change (L’argent de poche)\nDirected by François Truffaut \nSunday\, March 29\, 12:30 pm CINEMA + | BUY TICKETS \n$12 | $8 Speed and Alliance Française members| Free for UofL students\, faculty\, and staff \n“Francois Truffaut’s series of sketches on the general theme of the resilience of children turns out to be that rarity – a poetic comedy that’s really funny.”—Pauline Kael\, The New Yorker \nToo long absent from the big screen\, Small Change is one of Truffaut’s most poetic and personal films\, a radiant celebration of the world of childhood. Through a series of loosely connected vignettes in a small city in southern France\, a group of children\, from infants to adolescents\, experience the joys and trials of being young. “Children exist in a state of grace\,” as a young mother observes. “They pass untouched through dangers that would destroy an adult.” 1976\, France\, 35mm\, in French with English subtitles\, 104 minutes. Rated PG. \nCINEMA+ with an introduction and post-screening discussion.
URL:https://www.speedmuseum.org/event/small-change-largent-de-poche-at-speed-cinema/
CATEGORIES:Cinema+,Cinema
ATTACH;FMTTYPE=image/webp:https://www.speedmuseum.org/wp-content/uploads/Argent_de_poche_Copyright_Helene_Jeanbreau_4.webp
END:VEVENT
BEGIN:VEVENT
DTSTART;TZID=America/Kentucky/Louisville:20260329T130000
DTEND;TZID=America/Kentucky/Louisville:20260329T140000
DTSTAMP:20260421T094847
CREATED:20260205T180419Z
LAST-MODIFIED:20260205T180419Z
UID:10002338-1774789200-1774792800@www.speedmuseum.org
SUMMARY:Collection Highlights Drop-In Tour
DESCRIPTION:Explore the Speed and engage in conversations during this one-hour Docent-guided tour focused on the highlights of our collection. Free with admission. \nFor more information\, visit our tours page.
URL:https://www.speedmuseum.org/event/collection-highlights-drop-in-tour-24/
CATEGORIES:Tours
ATTACH;FMTTYPE=image/jpeg:https://www.speedmuseum.org/wp-content/uploads/IMG_6445-scaled-e1723220186355-1.jpg
END:VEVENT
BEGIN:VEVENT
DTSTART;TZID=America/Kentucky/Louisville:20260329T130000
DTEND;TZID=America/Kentucky/Louisville:20260329T140000
DTSTAMP:20260421T094847
CREATED:20260121T214415Z
LAST-MODIFIED:20260121T214415Z
UID:10002269-1774789200-1774792800@www.speedmuseum.org
SUMMARY:Speed Chat Spot
DESCRIPTION:Check out Speed Chat Spots. During this time frame a friendly docent will be available to chat about our collection\, for specific Chat Spot locations check in with Guest Services in the Front Lobby upon arrival.
URL:https://www.speedmuseum.org/event/speed-chat-spot-5/2026-03-29/
CATEGORIES:Tours
ATTACH;FMTTYPE=image/jpeg:https://www.speedmuseum.org/wp-content/uploads/20250321_213138981_iOS-scaled-e1769031302890.jpg
END:VEVENT
BEGIN:VEVENT
DTSTART;TZID=America/Kentucky/Louisville:20260329T150000
DTEND;TZID=America/Kentucky/Louisville:20260329T160000
DTSTAMP:20260421T094847
CREATED:20260121T214510Z
LAST-MODIFIED:20260121T214510Z
UID:10002287-1774796400-1774800000@www.speedmuseum.org
SUMMARY:Speed Chat Spot
DESCRIPTION:Check out Speed Chat Spots. During this time frame a friendly docent will be available to chat about our collection\, for specific Chat Spot locations check in with Guest Services in the Front Lobby upon arrival.
URL:https://www.speedmuseum.org/event/speed-chat-spot-6/2026-03-29/
CATEGORIES:Tours
ATTACH;FMTTYPE=image/jpeg:https://www.speedmuseum.org/wp-content/uploads/20250321_213138981_iOS-scaled-e1769031302890.jpg
END:VEVENT
BEGIN:VEVENT
DTSTART;TZID=America/Kentucky/Louisville:20260329T153000
DTEND;TZID=America/Kentucky/Louisville:20260329T170000
DTSTAMP:20260421T094847
CREATED:20260220T215352Z
LAST-MODIFIED:20260220T215352Z
UID:10002369-1774798200-1774803600@www.speedmuseum.org
SUMMARY:Natchez at Speed Cinema
DESCRIPTION:Natchez\nDirected by Suzannah Herbert \nSunday\, March 29\, 3:30 pm | BUY TICKETS \n$12 | $8 Speed members \n“A piercing portrait of a Mississippi town’s Antebellum tourism industry.” — Ross McIndoe\, Slant \nNatchez captures an unsettling clash between history and memory in a small Mississippi town; a layered mosaic of people contending with the weight of the past in a place where it is always present. Equal parts amusing and disturbing\, we journey through an antebellum tourist destination at a crossroads as it grapples with a deeply troubled history that is so thoroughly ingrained in its present\, we’re left to wonder if it’s actually past at all. 2025\, U.S.\, DCP\, 86 minutes.
URL:https://www.speedmuseum.org/event/natchez-at-speed-cinema-2/
CATEGORIES:Cinema
ATTACH;FMTTYPE=image/jpeg:https://www.speedmuseum.org/wp-content/uploads/NATCHEZ_Noah-Collier_1_FINAL-scaled.jpg
END:VEVENT
END:VCALENDAR