BEGIN:VCALENDAR
VERSION:2.0
PRODID:-//Speed Art Museum - ECPv6.15.18//NONSGML v1.0//EN
CALSCALE:GREGORIAN
METHOD:PUBLISH
X-WR-CALNAME:Speed Art Museum
X-ORIGINAL-URL:https://www.speedmuseum.org
X-WR-CALDESC:Events for Speed Art Museum
REFRESH-INTERVAL;VALUE=DURATION:PT1H
X-Robots-Tag:noindex
X-PUBLISHED-TTL:PT1H
BEGIN:VTIMEZONE
TZID:America/Kentucky/Louisville
BEGIN:DAYLIGHT
TZOFFSETFROM:-0500
TZOFFSETTO:-0400
TZNAME:EDT
DTSTART:20250309T070000
END:DAYLIGHT
BEGIN:STANDARD
TZOFFSETFROM:-0400
TZOFFSETTO:-0500
TZNAME:EST
DTSTART:20251102T060000
END:STANDARD
BEGIN:DAYLIGHT
TZOFFSETFROM:-0500
TZOFFSETTO:-0400
TZNAME:EDT
DTSTART:20260308T070000
END:DAYLIGHT
BEGIN:STANDARD
TZOFFSETFROM:-0400
TZOFFSETTO:-0500
TZNAME:EST
DTSTART:20261101T060000
END:STANDARD
BEGIN:DAYLIGHT
TZOFFSETFROM:-0500
TZOFFSETTO:-0400
TZNAME:EDT
DTSTART:20270314T070000
END:DAYLIGHT
BEGIN:STANDARD
TZOFFSETFROM:-0400
TZOFFSETTO:-0500
TZNAME:EST
DTSTART:20271107T060000
END:STANDARD
END:VTIMEZONE
BEGIN:VEVENT
DTSTART;TZID=America/Kentucky/Louisville:20260320T130000
DTEND;TZID=America/Kentucky/Louisville:20260320T140000
DTSTAMP:20260420T113425
CREATED:20260205T174200Z
LAST-MODIFIED:20260205T174200Z
UID:10002333-1774011600-1774015200@www.speedmuseum.org
SUMMARY:Collection Highlights Drop-In Tour
DESCRIPTION:Explore the Speed and engage in conversations during this one-hour Docent-guided tour focused on the highlights of our collection. Free with admission. \nFor more information\, visit our tours page.
URL:https://www.speedmuseum.org/event/collection-highlights-drop-in-tour-19/
CATEGORIES:Tours
ATTACH;FMTTYPE=image/jpeg:https://www.speedmuseum.org/wp-content/uploads/IMG_6445-scaled-e1723220186355-1.jpg
END:VEVENT
BEGIN:VEVENT
DTSTART;TZID=America/Kentucky/Louisville:20260320T180000
DTEND;TZID=America/Kentucky/Louisville:20260320T200000
DTSTAMP:20260420T113425
CREATED:20260220T172154Z
LAST-MODIFIED:20260220T172154Z
UID:10002359-1774029600-1774036800@www.speedmuseum.org
SUMMARY:The Elephant Man at Speed Cinema
DESCRIPTION:New 4K Restoration \nThe Elephant Man\nDirected by David Lynch \nFriday\, March 20\, 6 pm | BUY TICKETS \n$12 | $8 Speed members \n“From deep beneath layers of latex makeup\, Hurt inhabits a highly specific physical and behavioral characterization\, while also conveying the essential\, universal loneliness of the human soul.”—Adam Nayman\, The Ringer \nWith this poignant second feature\, David Lynch brought his atmospheric visual and sonic palette to a notorious true story set in Victorian England. When the London surgeon Frederick Treves (Anthony Hopkins) meets the freak-show performer John Merrick (John Hurt)\, who has severe skeletal and soft-tissue deformities\, he assumes that he must be intellectually disabled as well. As the two men spend more time together\, though\, Merrick reveals the intelligence\, gentle nature\, and profound sense of dignity that lie beneath his shocking appearance\, and he and Treves develop a friendship. Shot in gorgeous black and white and boasting a stellar supporting cast that includes Anne Bancroft\, John Gielgud\, and Wendy Hiller\, The Elephant Man was nominated for eight Academy Awards\, cementing Lynch’s reputation as one of American cinema’s most visionary talents. 1980\, U.S.\, DCP\, 123 minutes. Rated PG.
URL:https://www.speedmuseum.org/event/the-elephant-man-at-speed-cinema/
CATEGORIES:Cinema
ATTACH;FMTTYPE=image/jpeg:https://www.speedmuseum.org/wp-content/uploads/ElephantMan_image_04-scaled.jpg
END:VEVENT
BEGIN:VEVENT
DTSTART;TZID=America/Kentucky/Louisville:20260321T130000
DTEND;TZID=America/Kentucky/Louisville:20260321T140000
DTSTAMP:20260420T113425
CREATED:20260205T174210Z
LAST-MODIFIED:20260205T174210Z
UID:10002334-1774098000-1774101600@www.speedmuseum.org
SUMMARY:Collection Highlights Drop-In Tour
DESCRIPTION:Explore the Speed and engage in conversations during this one-hour Docent-guided tour focused on the highlights of our collection. Free with admission. \nFor more information\, visit our tours page.
URL:https://www.speedmuseum.org/event/collection-highlights-drop-in-tour-20/
CATEGORIES:Tours
ATTACH;FMTTYPE=image/jpeg:https://www.speedmuseum.org/wp-content/uploads/IMG_6445-scaled-e1723220186355-1.jpg
END:VEVENT
BEGIN:VEVENT
DTSTART;TZID=America/Kentucky/Louisville:20260321T130000
DTEND;TZID=America/Kentucky/Louisville:20260321T140000
DTSTAMP:20260420T113425
CREATED:20260121T214058Z
LAST-MODIFIED:20260121T214139Z
UID:10002250-1774098000-1774101600@www.speedmuseum.org
SUMMARY:Speed Chat Spot
DESCRIPTION:Check out Speed Chat Spots. During this time frame a friendly docent will be available to chat about our collection\, for specific Chat Spot locations check in with Guest Services in the Front Lobby upon arrival.
URL:https://www.speedmuseum.org/event/speed-chat-spot/2026-03-21/
CATEGORIES:Tours
ATTACH;FMTTYPE=image/jpeg:https://www.speedmuseum.org/wp-content/uploads/20250321_213138981_iOS-scaled-e1769031302890.jpg
END:VEVENT
BEGIN:VEVENT
DTSTART;TZID=America/Kentucky/Louisville:20260321T130000
DTEND;TZID=America/Kentucky/Louisville:20260321T143000
DTSTAMP:20260420T113425
CREATED:20260220T183815Z
LAST-MODIFIED:20260220T183815Z
UID:10002363-1774098000-1774103400@www.speedmuseum.org
SUMMARY:Exhibition on Screen: Turner & Constable at Speed Cinema
DESCRIPTION:Exhibition on Screen \nTurner & Constable\nDirected by David Bickerstaff \nSaturday\, March 21\, 1 pm | BUY TICKETS \n$12 | $10 Speed members \nCelebrating the 250th anniversary of their births\, this unmissable new documentary explores Turner and Constable’s intertwined lives and legacies alongside the groundbreaking Tate exhibition. \nTwo of Britain’s greatest painters\, J.M.W. Turner and John Constable were also the greatest of rivals. Born within a year of each other\, both used landscape painting to reflect the changing world around them. Tate Britain is bringing these two greats together for a groundbreaking exhibition\, in London from November 2025 to April 2026\, and Exhibition on Screen once again has exclusive and privileged access to bring their extraordinary art and remarkable stories to the big screen. Discover unexpected sides to both artists with intimate views of sketchbooks and personal items and insights from leading experts. \nTurner’s blazing sunsets and sublime scenes from his travels and Constable’s idealized depictions of beloved places from home whipped the public of the time into a frenzy of enthusiasm. Constable represents the very best of the old school of realism and pastoral nostalgia; Turner\, an exciting new way of depicting emotion and dreamlike impressions. Critics compared their starkly different styles to a clash of ‘fire and water’. Don’t miss this opportunity to see these greats side-by-side\, as they so often were in life\, on the big screen for the first time. 2025\, U.K.\, DCP\, 90 minutes. Recommended for 12+.
URL:https://www.speedmuseum.org/event/exhibition-on-screen-turner-constable-at-speed-cinema/
CATEGORIES:Cinema
ATTACH;FMTTYPE=image/jpeg:https://www.speedmuseum.org/wp-content/uploads/13-TC-Lachlan-Goudie-©-David-Bickerstaff-scaled.jpg
END:VEVENT
BEGIN:VEVENT
DTSTART;TZID=America/Kentucky/Louisville:20260321T150000
DTEND;TZID=America/Kentucky/Louisville:20260321T163000
DTSTAMP:20260420T113425
CREATED:20260220T175256Z
LAST-MODIFIED:20260220T175256Z
UID:10002361-1774105200-1774110600@www.speedmuseum.org
SUMMARY:The Missing Pieces at Speed Cinema
DESCRIPTION:The Missing Pieces\nDirected by David Lynch \nSaturday\, March 21\, 3 pm | BUY TICKETS \n$12 | $8 Speed members \nThe Missing Pieces compiles deleted and alternative takes from the film Twin Peaks: Fire Walk with Me\, as assembled by David Lynch. In the town of Twin Peaks\, everyone has their secrets—but especially Laura Palmer (Sheryl Lee). In the prequel to his groundbreaking 1990s television series\, David Lynch resurrects the teenager found wrapped in plastic at the beginning of the show\, following her through the last week of her life and teasing out the enigmas that surround her murder. Homecoming queen by day and drug-addicted thrill seeker by night\, Laura leads a double life that pulls her deeper and deeper into horror as she pieces together the identity of the assailant who has been terrorizing her for years. 2014\, U.S.\, DCP\, 90 minutes. Recommended for 16+.
URL:https://www.speedmuseum.org/event/the-missing-pieces-at-speed-cinema/
CATEGORIES:Cinema
ATTACH;FMTTYPE=image/jpeg:https://www.speedmuseum.org/wp-content/uploads/Missing-Pieces-2.jpg
END:VEVENT
BEGIN:VEVENT
DTSTART;TZID=America/Kentucky/Louisville:20260321T180000
DTEND;TZID=America/Kentucky/Louisville:20260321T200000
DTSTAMP:20260420T113425
CREATED:20260220T172320Z
LAST-MODIFIED:20260319T171318Z
UID:10002360-1774116000-1774123200@www.speedmuseum.org
SUMMARY:The Elephant Man at Speed Cinema
DESCRIPTION:New 4K Restoration \nThe Elephant Man\nDirected by David Lynch \nSaturday\, March 21\, 6 pm | BUY TICKETS – LOW TICKET ALERT \n$12 | $8 Speed members \n“From deep beneath layers of latex makeup\, Hurt inhabits a highly specific physical and behavioral characterization\, while also conveying the essential\, universal loneliness of the human soul.”—Adam Nayman\, The Ringer \nWith this poignant second feature\, David Lynch brought his atmospheric visual and sonic palette to a notorious true story set in Victorian England. When the London surgeon Frederick Treves (Anthony Hopkins) meets the freak-show performer John Merrick (John Hurt)\, who has severe skeletal and soft-tissue deformities\, he assumes that he must be intellectually disabled as well. As the two men spend more time together\, though\, Merrick reveals the intelligence\, gentle nature\, and profound sense of dignity that lie beneath his shocking appearance\, and he and Treves develop a friendship. Shot in gorgeous black and white and boasting a stellar supporting cast that includes Anne Bancroft\, John Gielgud\, and Wendy Hiller\, The Elephant Man was nominated for eight Academy Awards\, cementing Lynch’s reputation as one of American cinema’s most visionary talents. 1980\, U.S.\, DCP\, 123 minutes. Rated PG.
URL:https://www.speedmuseum.org/event/the-elephant-man-at-speed-cinema-2/
CATEGORIES:Cinema
ATTACH;FMTTYPE=image/jpeg:https://www.speedmuseum.org/wp-content/uploads/ElephantMan_image_04-scaled.jpg
END:VEVENT
BEGIN:VEVENT
DTSTART;TZID=America/Kentucky/Louisville:20260322T130000
DTEND;TZID=America/Kentucky/Louisville:20260322T140000
DTSTAMP:20260420T113425
CREATED:20260205T174224Z
LAST-MODIFIED:20260205T174224Z
UID:10002335-1774184400-1774188000@www.speedmuseum.org
SUMMARY:Collection Highlights Drop-In Tour
DESCRIPTION:Explore the Speed and engage in conversations during this one-hour Docent-guided tour focused on the highlights of our collection. Free with admission. \nFor more information\, visit our tours page.
URL:https://www.speedmuseum.org/event/collection-highlights-drop-in-tour-21/
CATEGORIES:Tours
ATTACH;FMTTYPE=image/jpeg:https://www.speedmuseum.org/wp-content/uploads/IMG_6445-scaled-e1723220186355-1.jpg
END:VEVENT
BEGIN:VEVENT
DTSTART;TZID=America/Kentucky/Louisville:20260322T130000
DTEND;TZID=America/Kentucky/Louisville:20260322T140000
DTSTAMP:20260420T113425
CREATED:20260121T214415Z
LAST-MODIFIED:20260121T214415Z
UID:10002268-1774184400-1774188000@www.speedmuseum.org
SUMMARY:Speed Chat Spot
DESCRIPTION:Check out Speed Chat Spots. During this time frame a friendly docent will be available to chat about our collection\, for specific Chat Spot locations check in with Guest Services in the Front Lobby upon arrival.
URL:https://www.speedmuseum.org/event/speed-chat-spot-5/2026-03-22/
CATEGORIES:Tours
ATTACH;FMTTYPE=image/jpeg:https://www.speedmuseum.org/wp-content/uploads/20250321_213138981_iOS-scaled-e1769031302890.jpg
END:VEVENT
BEGIN:VEVENT
DTSTART;TZID=America/Kentucky/Louisville:20260322T130000
DTEND;TZID=America/Kentucky/Louisville:20260322T143000
DTSTAMP:20260420T113425
CREATED:20260220T183839Z
LAST-MODIFIED:20260220T183839Z
UID:10002364-1774184400-1774189800@www.speedmuseum.org
SUMMARY:Exhibition on Screen: Turner & Constable at Speed Cinema
DESCRIPTION:Exhibition on Screen \nTurner & Constable\nDirected by David Bickerstaff \nSunday\, March 22\, 1 pm | BUY TICKETS \n$12 | $10 Speed members \nCelebrating the 250th anniversary of their births\, this unmissable new documentary explores Turner and Constable’s intertwined lives and legacies alongside the groundbreaking Tate exhibition. \nTwo of Britain’s greatest painters\, J.M.W. Turner and John Constable were also the greatest of rivals. Born within a year of each other\, both used landscape painting to reflect the changing world around them. Tate Britain is bringing these two greats together for a groundbreaking exhibition\, in London from November 2025 to April 2026\, and Exhibition on Screen once again has exclusive and privileged access to bring their extraordinary art and remarkable stories to the big screen. Discover unexpected sides to both artists with intimate views of sketchbooks and personal items and insights from leading experts. \nTurner’s blazing sunsets and sublime scenes from his travels and Constable’s idealized depictions of beloved places from home whipped the public of the time into a frenzy of enthusiasm. Constable represents the very best of the old school of realism and pastoral nostalgia; Turner\, an exciting new way of depicting emotion and dreamlike impressions. Critics compared their starkly different styles to a clash of ‘fire and water’. Don’t miss this opportunity to see these greats side-by-side\, as they so often were in life\, on the big screen for the first time. 2025\, U.K.\, DCP\, 90 minutes. Recommended for 12+.
URL:https://www.speedmuseum.org/event/exhibition-on-screen-turner-constable-at-speed-cinema-2/
CATEGORIES:Cinema
ATTACH;FMTTYPE=image/jpeg:https://www.speedmuseum.org/wp-content/uploads/13-TC-Lachlan-Goudie-©-David-Bickerstaff-scaled.jpg
END:VEVENT
BEGIN:VEVENT
DTSTART;TZID=America/Kentucky/Louisville:20260322T150000
DTEND;TZID=America/Kentucky/Louisville:20260322T160000
DTSTAMP:20260420T113425
CREATED:20260121T214510Z
LAST-MODIFIED:20260121T214510Z
UID:10002286-1774191600-1774195200@www.speedmuseum.org
SUMMARY:Speed Chat Spot
DESCRIPTION:Check out Speed Chat Spots. During this time frame a friendly docent will be available to chat about our collection\, for specific Chat Spot locations check in with Guest Services in the Front Lobby upon arrival.
URL:https://www.speedmuseum.org/event/speed-chat-spot-6/2026-03-22/
CATEGORIES:Tours
ATTACH;FMTTYPE=image/jpeg:https://www.speedmuseum.org/wp-content/uploads/20250321_213138981_iOS-scaled-e1769031302890.jpg
END:VEVENT
END:VCALENDAR