BEGIN:VCALENDAR
VERSION:2.0
PRODID:-//Speed Art Museum - ECPv6.15.18//NONSGML v1.0//EN
CALSCALE:GREGORIAN
METHOD:PUBLISH
X-WR-CALNAME:Speed Art Museum
X-ORIGINAL-URL:https://www.speedmuseum.org
X-WR-CALDESC:Events for Speed Art Museum
REFRESH-INTERVAL;VALUE=DURATION:PT1H
X-Robots-Tag:noindex
X-PUBLISHED-TTL:PT1H
BEGIN:VTIMEZONE
TZID:America/Kentucky/Louisville
BEGIN:DAYLIGHT
TZOFFSETFROM:-0500
TZOFFSETTO:-0400
TZNAME:EDT
DTSTART:20250309T070000
END:DAYLIGHT
BEGIN:STANDARD
TZOFFSETFROM:-0400
TZOFFSETTO:-0500
TZNAME:EST
DTSTART:20251102T060000
END:STANDARD
BEGIN:DAYLIGHT
TZOFFSETFROM:-0500
TZOFFSETTO:-0400
TZNAME:EDT
DTSTART:20260308T070000
END:DAYLIGHT
BEGIN:STANDARD
TZOFFSETFROM:-0400
TZOFFSETTO:-0500
TZNAME:EST
DTSTART:20261101T060000
END:STANDARD
BEGIN:DAYLIGHT
TZOFFSETFROM:-0500
TZOFFSETTO:-0400
TZNAME:EDT
DTSTART:20270314T070000
END:DAYLIGHT
BEGIN:STANDARD
TZOFFSETFROM:-0400
TZOFFSETTO:-0500
TZNAME:EST
DTSTART:20271107T060000
END:STANDARD
END:VTIMEZONE
BEGIN:VEVENT
DTSTART;TZID=America/Kentucky/Louisville:20260702T170000
DTEND;TZID=America/Kentucky/Louisville:20260702T190000
DTSTAMP:20260420T054919
CREATED:20260414T155201Z
LAST-MODIFIED:20260414T155201Z
UID:10002541-1783011600-1783018800@www.speedmuseum.org
SUMMARY:Speed Social: Connect + Inspire
DESCRIPTION:Speed Social: Connect + Inspire  \nA monthly evening gathering for adults to unwind and create\nCost: $18/non-member\, $15/member \n \nREGISTER\nSpeed Social is a relaxed evening program for adults to connect\, sketch\, and socialize. Guests can enjoy music\, drinks\, and an informal drawing session. No instruction is required—just time to relax\, be creative\, and enjoy art in a social\, welcoming atmosphere. Held after museum hours. Gallery admission is not included.  \nJuly Programming\nTBA
URL:https://www.speedmuseum.org/event/speed-social-connect-inspire-3/
CATEGORIES:Public Programs
ATTACH;FMTTYPE=image/jpeg:https://www.speedmuseum.org/wp-content/uploads/CFD-1-12-scaled-e1775074654115.jpg
END:VEVENT
BEGIN:VEVENT
DTSTART;TZID=America/Kentucky/Louisville:20260711T100000
DTEND;TZID=America/Kentucky/Louisville:20260711T140000
DTSTAMP:20260420T054919
CREATED:20260219T144851Z
LAST-MODIFIED:20260325T184036Z
UID:10002349-1783764000-1783778400@www.speedmuseum.org
SUMMARY:Speed Family: Film + Fun
DESCRIPTION:Speed Family: Film + Fun \nFilm and programming information TBA \n$18/non-member adult\, $8 non-member child\n$15 Speed member adult\, $5 Speed member child \nBUY TICKETS
URL:https://www.speedmuseum.org/event/speed-family-film-fun-5/
CATEGORIES:Public Programs
ATTACH;FMTTYPE=image/jpeg:https://www.speedmuseum.org/wp-content/uploads/2023-02-17-19.13.14-scaled-e1771512091781.jpg
END:VEVENT
BEGIN:VEVENT
DTSTART;TZID=America/Kentucky/Louisville:20260719T130000
DTEND;TZID=America/Kentucky/Louisville:20260719T160000
DTSTAMP:20260420T054919
CREATED:20260414T170325Z
LAST-MODIFIED:20260414T170325Z
UID:10002549-1784466000-1784476800@www.speedmuseum.org
SUMMARY:Speed Together: Explore + Create
DESCRIPTION:Speed Together: Explore + Create  \nA monthly Sunday of art\, creativity\, and self-guided discovery  \nSpeed Together is a free Sunday program where visitors of all ages can explore the Speed’s collections and galleries at their own pace. Each session offers opportunities for self-guided discovery\, light creative activities\, and quiet moments to reflect\, draw\, or experiment with artmaking. Families\, friends\, and first-time visitors can enjoy a relaxed\, flexible experience designed to make the museum welcoming and accessible to everyone. 
URL:https://www.speedmuseum.org/event/speed-together-explore-create-4/
CATEGORIES:Public Programs
ATTACH;FMTTYPE=image/jpeg:https://www.speedmuseum.org/wp-content/uploads/FamilyDay-4-5-24-16-scaled-e1775074285133.jpg
END:VEVENT
BEGIN:VEVENT
DTSTART;TZID=America/Kentucky/Louisville:20260723T130000
DTEND;TZID=America/Kentucky/Louisville:20260723T150000
DTSTAMP:20260420T054919
CREATED:20260414T171352Z
LAST-MODIFIED:20260414T171352Z
UID:10002555-1784811600-1784818800@www.speedmuseum.org
SUMMARY:Speed Legacy: Carry + Continue 
DESCRIPTION:Speed Legacy: Carry + Continue  \nA monthly Thursday for adults 55+ to reflect\, create\, and connect  \nREGISTER\nSpeed Legacy is a daytime program for adults 55+ that combines conversation\, storytelling\, and simple creative activities. Each session invites participants to reflect\, share experiences\, and engage with art at their own pace. The focus is on connection\, reflection\, and community in a calm\, welcoming environment.  \nCost: $12/member $15/non-member (includes access to the galleries viewed in context of the studio session + studio materials) 
URL:https://www.speedmuseum.org/event/speed-legacy-carry-continue/
CATEGORIES:Public Programs
ATTACH;FMTTYPE=image/jpeg:https://www.speedmuseum.org/wp-content/uploads/Image-2.jpg
END:VEVENT
BEGIN:VEVENT
DTSTART;TZID=America/Kentucky/Louisville:20260806T170000
DTEND;TZID=America/Kentucky/Louisville:20260806T190000
DTSTAMP:20260420T054919
CREATED:20260414T160529Z
LAST-MODIFIED:20260414T160529Z
UID:10002542-1786035600-1786042800@www.speedmuseum.org
SUMMARY:Speed Social: Connect + Inspire
DESCRIPTION:Speed Social: Connect + Inspire  \nA monthly evening gathering for adults to unwind and create\nCost: $18/non-member\, $15/member \n \nREGISTER\nSpeed Social is a relaxed evening program for adults to connect\, sketch\, and socialize. Guests can enjoy music\, drinks\, and an informal drawing session. No instruction is required—just time to relax\, be creative\, and enjoy art in a social\, welcoming atmosphere. Held after museum hours. Gallery admission is not included.  \nAugust Programming\nTBA
URL:https://www.speedmuseum.org/event/speed-social-connect-inspire-5/
CATEGORIES:Public Programs
ATTACH;FMTTYPE=image/jpeg:https://www.speedmuseum.org/wp-content/uploads/CFD-1-12-scaled-e1775074654115.jpg
END:VEVENT
BEGIN:VEVENT
DTSTART;TZID=America/Kentucky/Louisville:20260808T100000
DTEND;TZID=America/Kentucky/Louisville:20260808T140000
DTSTAMP:20260420T054919
CREATED:20260219T144912Z
LAST-MODIFIED:20260325T184044Z
UID:10002350-1786183200-1786197600@www.speedmuseum.org
SUMMARY:Speed Family: Film + Fun
DESCRIPTION:Speed Family: Film + Fun \nFilm and programming information TBA \n$18/non-member adult\, $8 non-member child\n$15 Speed member adult\, $5 Speed member child \nBUY TICKETS\nNote: This ticket does not include general admission to the Museum
URL:https://www.speedmuseum.org/event/speed-family-film-fun-6/
CATEGORIES:Public Programs
ATTACH;FMTTYPE=image/jpeg:https://www.speedmuseum.org/wp-content/uploads/2023-02-17-19.13.14-scaled-e1771512091781.jpg
END:VEVENT
BEGIN:VEVENT
DTSTART;TZID=America/Kentucky/Louisville:20260816T130000
DTEND;TZID=America/Kentucky/Louisville:20260816T160000
DTSTAMP:20260420T054919
CREATED:20260414T170445Z
LAST-MODIFIED:20260414T170445Z
UID:10002550-1786885200-1786896000@www.speedmuseum.org
SUMMARY:Speed Together: Explore + Create
DESCRIPTION:Speed Together: Explore + Create  \nA monthly Sunday of art\, creativity\, and self-guided discovery  \nSpeed Together is a free Sunday program where visitors of all ages can explore the Speed’s collections and galleries at their own pace. Each session offers opportunities for self-guided discovery\, light creative activities\, and quiet moments to reflect\, draw\, or experiment with artmaking. Families\, friends\, and first-time visitors can enjoy a relaxed\, flexible experience designed to make the museum welcoming and accessible to everyone. 
URL:https://www.speedmuseum.org/event/speed-together-explore-create-5/
CATEGORIES:Public Programs
ATTACH;FMTTYPE=image/jpeg:https://www.speedmuseum.org/wp-content/uploads/FamilyDay-4-5-24-16-scaled-e1775074285133.jpg
END:VEVENT
BEGIN:VEVENT
DTSTART;TZID=America/Kentucky/Louisville:20260827T130000
DTEND;TZID=America/Kentucky/Louisville:20260827T150000
DTSTAMP:20260420T054919
CREATED:20260414T173142Z
LAST-MODIFIED:20260414T173142Z
UID:10002556-1787835600-1787842800@www.speedmuseum.org
SUMMARY:Speed Legacy: Carry + Continue 
DESCRIPTION:Speed Legacy: Carry + Continue  \nA monthly Thursday for adults 55+ to reflect\, create\, and connect  \nREGISTER\nSpeed Legacy is a daytime program for adults 55+ that combines conversation\, storytelling\, and simple creative activities. Each session invites participants to reflect\, share experiences\, and engage with art at their own pace. The focus is on connection\, reflection\, and community in a calm\, welcoming environment.  \nCost: $12/member $15/non-member (includes access to the galleries viewed in context of the studio session + studio materials) 
URL:https://www.speedmuseum.org/event/speed-legacy-carry-continue-2/
CATEGORIES:Public Programs
ATTACH;FMTTYPE=image/jpeg:https://www.speedmuseum.org/wp-content/uploads/Image-2.jpg
END:VEVENT
BEGIN:VEVENT
DTSTART;TZID=America/Kentucky/Louisville:20260903T170000
DTEND;TZID=America/Kentucky/Louisville:20260903T190000
DTSTAMP:20260420T054919
CREATED:20260414T160709Z
LAST-MODIFIED:20260414T160709Z
UID:10002543-1788454800-1788462000@www.speedmuseum.org
SUMMARY:Speed Social: Connect + Inspire
DESCRIPTION:Speed Social: Connect + Inspire  \nA monthly evening gathering for adults to unwind and create\nCost: $18/non-member\, $15/member \n \nREGISTER\nSpeed Social is a relaxed evening program for adults to connect\, sketch\, and socialize. Guests can enjoy music\, drinks\, and an informal drawing session. No instruction is required—just time to relax\, be creative\, and enjoy art in a social\, welcoming atmosphere. Held after museum hours. Gallery admission is not included.  \nSeptember Programming\nTBA
URL:https://www.speedmuseum.org/event/speed-social-connect-inspire-6/
CATEGORIES:Public Programs
ATTACH;FMTTYPE=image/jpeg:https://www.speedmuseum.org/wp-content/uploads/CFD-1-12-scaled-e1775074654115.jpg
END:VEVENT
BEGIN:VEVENT
DTSTART;TZID=America/Kentucky/Louisville:20260912T100000
DTEND;TZID=America/Kentucky/Louisville:20260912T140000
DTSTAMP:20260420T054919
CREATED:20260219T144928Z
LAST-MODIFIED:20260325T184052Z
UID:10002351-1789207200-1789221600@www.speedmuseum.org
SUMMARY:Speed Family: Film + Fun
DESCRIPTION:Speed Family: Film + Fun \nFilm and programming information TBA \n$18/non-member adult\, $8 non-member child\n$15 Speed member adult\, $5 Speed member child \nBUY TICKETS\nNote: This ticket does not include general admission to the Museum
URL:https://www.speedmuseum.org/event/speed-family-film-fun-7/
CATEGORIES:Public Programs
ATTACH;FMTTYPE=image/jpeg:https://www.speedmuseum.org/wp-content/uploads/2023-02-17-19.13.14-scaled-e1771512091781.jpg
END:VEVENT
BEGIN:VEVENT
DTSTART;TZID=America/Kentucky/Louisville:20260920T130000
DTEND;TZID=America/Kentucky/Louisville:20260920T160000
DTSTAMP:20260420T054919
CREATED:20260414T170510Z
LAST-MODIFIED:20260414T170510Z
UID:10002551-1789909200-1789920000@www.speedmuseum.org
SUMMARY:Speed Together: Explore + Create
DESCRIPTION:Speed Together: Explore + Create  \nA monthly Sunday of art\, creativity\, and self-guided discovery  \nSpeed Together is a free Sunday program where visitors of all ages can explore the Speed’s collections and galleries at their own pace. Each session offers opportunities for self-guided discovery\, light creative activities\, and quiet moments to reflect\, draw\, or experiment with artmaking. Families\, friends\, and first-time visitors can enjoy a relaxed\, flexible experience designed to make the museum welcoming and accessible to everyone. 
URL:https://www.speedmuseum.org/event/speed-together-explore-create-6/
CATEGORIES:Public Programs
ATTACH;FMTTYPE=image/jpeg:https://www.speedmuseum.org/wp-content/uploads/FamilyDay-4-5-24-16-scaled-e1775074285133.jpg
END:VEVENT
BEGIN:VEVENT
DTSTART;TZID=America/Kentucky/Louisville:20260924T130000
DTEND;TZID=America/Kentucky/Louisville:20260924T150000
DTSTAMP:20260420T054919
CREATED:20260414T174342Z
LAST-MODIFIED:20260414T174342Z
UID:10002557-1790254800-1790262000@www.speedmuseum.org
SUMMARY:Speed Legacy: Carry + Continue 
DESCRIPTION:Speed Legacy: Carry + Continue  \nA monthly Thursday for adults 55+ to reflect\, create\, and connect  \nREGISTER\nSpeed Legacy is a daytime program for adults 55+ that combines conversation\, storytelling\, and simple creative activities. Each session invites participants to reflect\, share experiences\, and engage with art at their own pace. The focus is on connection\, reflection\, and community in a calm\, welcoming environment.  \nCost: $12/member $15/non-member (includes access to the galleries viewed in context of the studio session + studio materials) 
URL:https://www.speedmuseum.org/event/speed-legacy-carry-continue-3/
CATEGORIES:Public Programs
ATTACH;FMTTYPE=image/jpeg:https://www.speedmuseum.org/wp-content/uploads/Image-2.jpg
END:VEVENT
BEGIN:VEVENT
DTSTART;TZID=America/Kentucky/Louisville:20261001T170000
DTEND;TZID=America/Kentucky/Louisville:20261001T190000
DTSTAMP:20260420T054919
CREATED:20260414T160741Z
LAST-MODIFIED:20260414T160741Z
UID:10002544-1790874000-1790881200@www.speedmuseum.org
SUMMARY:Speed Social: Connect + Inspire
DESCRIPTION:Speed Social: Connect + Inspire  \nA monthly evening gathering for adults to unwind and create\nCost: $18/non-member\, $15/member \n \nREGISTER\nSpeed Social is a relaxed evening program for adults to connect\, sketch\, and socialize. Guests can enjoy music\, drinks\, and an informal drawing session. No instruction is required—just time to relax\, be creative\, and enjoy art in a social\, welcoming atmosphere. Held after museum hours. Gallery admission is not included.  \nSeptember Programming\nTBA
URL:https://www.speedmuseum.org/event/speed-social-connect-inspire-7/
CATEGORIES:Public Programs
ATTACH;FMTTYPE=image/jpeg:https://www.speedmuseum.org/wp-content/uploads/CFD-1-12-scaled-e1775074654115.jpg
END:VEVENT
BEGIN:VEVENT
DTSTART;TZID=America/Kentucky/Louisville:20261010T100000
DTEND;TZID=America/Kentucky/Louisville:20261010T140000
DTSTAMP:20260420T054919
CREATED:20260219T144956Z
LAST-MODIFIED:20260325T184058Z
UID:10002352-1791626400-1791640800@www.speedmuseum.org
SUMMARY:Speed Family: Film + Fun
DESCRIPTION:Speed Family: Film + Fun \nFilm and programming information TBA \n$18/non-member adult\, $8 non-member child\n$15 Speed member adult\, $5 Speed member child \nBUY TICKETS\nNote: This ticket does not include general admission to the Museum
URL:https://www.speedmuseum.org/event/speed-family-film-fun-8/
CATEGORIES:Public Programs
ATTACH;FMTTYPE=image/jpeg:https://www.speedmuseum.org/wp-content/uploads/2023-02-17-19.13.14-scaled-e1771512091781.jpg
END:VEVENT
BEGIN:VEVENT
DTSTART;TZID=America/Kentucky/Louisville:20261018T130000
DTEND;TZID=America/Kentucky/Louisville:20261018T160000
DTSTAMP:20260420T054919
CREATED:20260414T170517Z
LAST-MODIFIED:20260414T170517Z
UID:10002552-1792328400-1792339200@www.speedmuseum.org
SUMMARY:Speed Together: Explore + Create
DESCRIPTION:Speed Together: Explore + Create  \nA monthly Sunday of art\, creativity\, and self-guided discovery  \nSpeed Together is a free Sunday program where visitors of all ages can explore the Speed’s collections and galleries at their own pace. Each session offers opportunities for self-guided discovery\, light creative activities\, and quiet moments to reflect\, draw\, or experiment with artmaking. Families\, friends\, and first-time visitors can enjoy a relaxed\, flexible experience designed to make the museum welcoming and accessible to everyone. 
URL:https://www.speedmuseum.org/event/speed-together-explore-create-7/
CATEGORIES:Public Programs
ATTACH;FMTTYPE=image/jpeg:https://www.speedmuseum.org/wp-content/uploads/FamilyDay-4-5-24-16-scaled-e1775074285133.jpg
END:VEVENT
BEGIN:VEVENT
DTSTART;TZID=America/Kentucky/Louisville:20261022T130000
DTEND;TZID=America/Kentucky/Louisville:20261022T150000
DTSTAMP:20260420T054919
CREATED:20260414T174528Z
LAST-MODIFIED:20260414T174528Z
UID:10002558-1792674000-1792681200@www.speedmuseum.org
SUMMARY:Speed Legacy: Carry + Continue 
DESCRIPTION:Speed Legacy: Carry + Continue  \nA monthly Thursday for adults 55+ to reflect\, create\, and connect  \nREGISTER\nSpeed Legacy is a daytime program for adults 55+ that combines conversation\, storytelling\, and simple creative activities. Each session invites participants to reflect\, share experiences\, and engage with art at their own pace. The focus is on connection\, reflection\, and community in a calm\, welcoming environment.  \nCost: $12/member $15/non-member (includes access to the galleries viewed in context of the studio session + studio materials) 
URL:https://www.speedmuseum.org/event/speed-legacy-carry-continue-4/
CATEGORIES:Public Programs
ATTACH;FMTTYPE=image/jpeg:https://www.speedmuseum.org/wp-content/uploads/Image-2.jpg
END:VEVENT
BEGIN:VEVENT
DTSTART;TZID=America/Kentucky/Louisville:20261105T170000
DTEND;TZID=America/Kentucky/Louisville:20261105T190000
DTSTAMP:20260420T054919
CREATED:20260414T160807Z
LAST-MODIFIED:20260414T160807Z
UID:10002545-1793898000-1793905200@www.speedmuseum.org
SUMMARY:Speed Social: Connect + Inspire
DESCRIPTION:Speed Social: Connect + Inspire  \nA monthly evening gathering for adults to unwind and create\nCost: $18/non-member\, $15/member \n \nREGISTER\nSpeed Social is a relaxed evening program for adults to connect\, sketch\, and socialize. Guests can enjoy music\, drinks\, and an informal drawing session. No instruction is required—just time to relax\, be creative\, and enjoy art in a social\, welcoming atmosphere. Held after museum hours. Gallery admission is not included.  \nNovember Programming\nTBA
URL:https://www.speedmuseum.org/event/speed-social-connect-inspire-8/
CATEGORIES:Public Programs
ATTACH;FMTTYPE=image/jpeg:https://www.speedmuseum.org/wp-content/uploads/CFD-1-12-scaled-e1775074654115.jpg
END:VEVENT
BEGIN:VEVENT
DTSTART;TZID=America/Kentucky/Louisville:20261114T100000
DTEND;TZID=America/Kentucky/Louisville:20261114T140000
DTSTAMP:20260420T054919
CREATED:20260219T145020Z
LAST-MODIFIED:20260325T184104Z
UID:10002353-1794650400-1794664800@www.speedmuseum.org
SUMMARY:Speed Family: Film + Fun
DESCRIPTION:Speed Family: Film + Fun \nFilm and programming information TBA \n$18/non-member adult\, $8 non-member child\n$15 Speed member adult\, $5 Speed member child \nBUY TICKETS\nNote: This ticket does not include general admission to the Museum
URL:https://www.speedmuseum.org/event/speed-family-film-fun-9/
CATEGORIES:Public Programs
ATTACH;FMTTYPE=image/jpeg:https://www.speedmuseum.org/wp-content/uploads/2023-02-17-19.13.14-scaled-e1771512091781.jpg
END:VEVENT
BEGIN:VEVENT
DTSTART;TZID=America/Kentucky/Louisville:20261115T130000
DTEND;TZID=America/Kentucky/Louisville:20261115T160000
DTSTAMP:20260420T054919
CREATED:20260414T170606Z
LAST-MODIFIED:20260414T170606Z
UID:10002553-1794747600-1794758400@www.speedmuseum.org
SUMMARY:Speed Together: Explore + Create
DESCRIPTION:Speed Together: Explore + Create  \nA monthly Sunday of art\, creativity\, and self-guided discovery  \nSpeed Together is a free Sunday program where visitors of all ages can explore the Speed’s collections and galleries at their own pace. Each session offers opportunities for self-guided discovery\, light creative activities\, and quiet moments to reflect\, draw\, or experiment with artmaking. Families\, friends\, and first-time visitors can enjoy a relaxed\, flexible experience designed to make the museum welcoming and accessible to everyone. 
URL:https://www.speedmuseum.org/event/speed-together-explore-create-8/
CATEGORIES:Public Programs
ATTACH;FMTTYPE=image/jpeg:https://www.speedmuseum.org/wp-content/uploads/FamilyDay-4-5-24-16-scaled-e1775074285133.jpg
END:VEVENT
BEGIN:VEVENT
DTSTART;TZID=America/Kentucky/Louisville:20261203T170000
DTEND;TZID=America/Kentucky/Louisville:20261203T190000
DTSTAMP:20260420T054919
CREATED:20260414T160835Z
LAST-MODIFIED:20260414T160835Z
UID:10002546-1796317200-1796324400@www.speedmuseum.org
SUMMARY:Speed Social: Connect + Inspire
DESCRIPTION:Speed Social: Connect + Inspire  \nA monthly evening gathering for adults to unwind and create\nCost: $18/non-member\, $15/member \n \nREGISTER\nSpeed Social is a relaxed evening program for adults to connect\, sketch\, and socialize. Guests can enjoy music\, drinks\, and an informal drawing session. No instruction is required—just time to relax\, be creative\, and enjoy art in a social\, welcoming atmosphere. Held after museum hours. Gallery admission is not included.  \nDecember Programming\nTBA
URL:https://www.speedmuseum.org/event/speed-social-connect-inspire-9/
CATEGORIES:Public Programs
ATTACH;FMTTYPE=image/jpeg:https://www.speedmuseum.org/wp-content/uploads/CFD-1-12-scaled-e1775074654115.jpg
END:VEVENT
BEGIN:VEVENT
DTSTART;TZID=America/Kentucky/Louisville:20261212T100000
DTEND;TZID=America/Kentucky/Louisville:20261212T140000
DTSTAMP:20260420T054919
CREATED:20260219T145044Z
LAST-MODIFIED:20260325T184110Z
UID:10002354-1797069600-1797084000@www.speedmuseum.org
SUMMARY:Speed Family: Film + Fun
DESCRIPTION:Speed Family: Film + Fun \nFilm and programming information TBA \n$18/non-member adult\, $8 non-member child\n$15 Speed member adult\, $5 Speed member child \nBUY TICKETS\nNote: This ticket does not include general admission to the Museum
URL:https://www.speedmuseum.org/event/speed-family-film-fun-10/
CATEGORIES:Public Programs
ATTACH;FMTTYPE=image/jpeg:https://www.speedmuseum.org/wp-content/uploads/2023-02-17-19.13.14-scaled-e1771512091781.jpg
END:VEVENT
BEGIN:VEVENT
DTSTART;TZID=America/Kentucky/Louisville:20261220T130000
DTEND;TZID=America/Kentucky/Louisville:20261220T160000
DTSTAMP:20260420T054919
CREATED:20260414T170647Z
LAST-MODIFIED:20260414T170647Z
UID:10002554-1797771600-1797782400@www.speedmuseum.org
SUMMARY:Speed Together: Explore + Create
DESCRIPTION:Speed Together: Explore + Create  \nA monthly Sunday of art\, creativity\, and self-guided discovery  \nSpeed Together is a free Sunday program where visitors of all ages can explore the Speed’s collections and galleries at their own pace. Each session offers opportunities for self-guided discovery\, light creative activities\, and quiet moments to reflect\, draw\, or experiment with artmaking. Families\, friends\, and first-time visitors can enjoy a relaxed\, flexible experience designed to make the museum welcoming and accessible to everyone. 
URL:https://www.speedmuseum.org/event/speed-together-explore-create-9/
CATEGORIES:Public Programs
ATTACH;FMTTYPE=image/jpeg:https://www.speedmuseum.org/wp-content/uploads/FamilyDay-4-5-24-16-scaled-e1775074285133.jpg
END:VEVENT
END:VCALENDAR