BEGIN:VCALENDAR
VERSION:2.0
PRODID:-//Speed Art Museum - ECPv6.15.20//NONSGML v1.0//EN
CALSCALE:GREGORIAN
METHOD:PUBLISH
X-WR-CALNAME:Speed Art Museum
X-ORIGINAL-URL:https://www.speedmuseum.org
X-WR-CALDESC:Events for Speed Art Museum
REFRESH-INTERVAL;VALUE=DURATION:PT1H
X-Robots-Tag:noindex
X-PUBLISHED-TTL:PT1H
BEGIN:VTIMEZONE
TZID:America/Kentucky/Louisville
BEGIN:DAYLIGHT
TZOFFSETFROM:-0500
TZOFFSETTO:-0400
TZNAME:EDT
DTSTART:20250309T070000
END:DAYLIGHT
BEGIN:STANDARD
TZOFFSETFROM:-0400
TZOFFSETTO:-0500
TZNAME:EST
DTSTART:20251102T060000
END:STANDARD
BEGIN:DAYLIGHT
TZOFFSETFROM:-0500
TZOFFSETTO:-0400
TZNAME:EDT
DTSTART:20260308T070000
END:DAYLIGHT
BEGIN:STANDARD
TZOFFSETFROM:-0400
TZOFFSETTO:-0500
TZNAME:EST
DTSTART:20261101T060000
END:STANDARD
BEGIN:DAYLIGHT
TZOFFSETFROM:-0500
TZOFFSETTO:-0400
TZNAME:EDT
DTSTART:20270314T070000
END:DAYLIGHT
BEGIN:STANDARD
TZOFFSETFROM:-0400
TZOFFSETTO:-0500
TZNAME:EST
DTSTART:20271107T060000
END:STANDARD
END:VTIMEZONE
BEGIN:VEVENT
DTSTART;TZID=America/Kentucky/Louisville:20260513T180000
DTEND;TZID=America/Kentucky/Louisville:20260513T193000
DTSTAMP:20260424T115313
CREATED:20260422T203937Z
LAST-MODIFIED:20260422T203937Z
UID:10002564-1778695200-1778700600@www.speedmuseum.org
SUMMARY:A Woman of the World X Pearl Jam at Speed Cinema
DESCRIPTION:Silents Synced\nA Woman of the World X Pearl Jam \nDirected by Mal St. Clair \nWednesday\, May 13\, 6 pm | BUY TICKETS \n$12 | $8 Speed and LPM members \nSilents Synced is back pairing the early cinematic comedy starring Pola Negri as a bold trendsetter with the rocking contemporary score by Pearl Jam. \nCelebrating its 100th anniversary\, A Woman of the World centers on a sensual European countess (Negri) who arrives at a small American town and quickly provokes moral outrage from the community. During her stay with a cousin\, the temptress courts scandal smoking\, enticing men\, extravagant clothes and a tattoo. \nSilents Synced creator Josh Frank\, explained\, “She’s done being pushed around by men. She’s punk rock before punk even existed. How frickin’ cool is that!” 2025\, U.S.\, DCP\, 79 minutes. Recommended for 15+. \nCo-presented with WFPK
URL:https://www.speedmuseum.org/event/a-woman-of-the-world-x-pearl-jam-at-speed-cinema/
CATEGORIES:Cinema
ATTACH;FMTTYPE=image/jpeg:https://www.speedmuseum.org/wp-content/uploads/WotW-2.jpg
END:VEVENT
END:VCALENDAR